BEGIN:VCALENDAR
VERSION:2.0
PRODID:eintopf.info
METHOD:REQUEST
BEGIN:VEVENT
UID:40c05d95-c519-497c-9a54-ac942c86a79d
SUMMARY:Gewaltfreie Kommuniation (GFK) als Werkzeug im gesellschaftlichen
  Wandel
DTSTART:20251031T170000Z
URL:https://eintopf.info/event/40c05d95-c519-497c-9a54-ac942c86a79d
DTEND:20251101T160000Z
CATEGORIES:Workshop\,Sonstiges
DESCRIPTION:
LOCATION:Silberburgstraße 134\, Stuttgart-West\, Silberburgstraße 134\,
  Stuttgart-West\, Hinterhof
GEO:48.7749451;9.1654432
ORGANIZER:mailto:GFK-Netzwerk Stuttgart
END:VEVENT
END:VCALENDAR
