BEGIN:VCALENDAR
VERSION:2.0
PRODID:eintopf.info
METHOD:REQUEST
BEGIN:VEVENT
UID:3c47d803-60c0-40d8-990b-4c7b2140ebb2
SUMMARY:Bitch Hunt. Warum wir es lieben\, Frauen zu hassen
DTSTART:20260504T183000Z
URL:https://eintopf.info/event/3c47d803-60c0-40d8-990b-4c7b2140ebb2
DTEND:20260504T203000Z
CATEGORIES:Vortrag\,Feminismus
DESCRIPTION:\nBitch Hunt\nWarum wir es lieben\, Frauen zu hassen\n\nLesung
  und Gespräch mit Veronika Kracher\n\nMontag\, 4. Mai 2026\, 20.30 Uhr\,
  Stuttgart\n\nTheater Rampe\, Filderstraße 47\,
  Stuttgart-Süd\n\nEintritt frei\n\nIn Bitch Hunt analysiert die Autorin\,
  Publizistin und Bildungsreferentin Veronika Kracher alltäglichen
  Frauenhass\, der in unserer Gesellschaft allgegenwärtig ist. Was früher
  in reißerischen Printmedien stattfand\, geschieht heute online und in
  Echtzeit. Ein breites Publikum beteiligt sich begeistert an Hass und
  Hetze gegen Frauen. Maskulinistische Influencer\, deren Content
  ausschließlich aus Angriffen gegen Frauen und queere Menschen besteht\,
  erreichen auf Sozialen Medien ein Millionenpublikum. Das
  „Geschäftsmodell Hass“ generiert gewinnbringende Klicks\, das
  globale digitale Plattformen finanziert.\n\nWelche Funktion hat digitaler
  Misogynie\, welche Rolle spielt misogyne Kampagnen im
  rechtspopulistischen Kulturkampf\, wie verstärken soziale Medien
  Frauenhass in einer patriarchalen Gesellschaft?\n\nAuch die Diskussion um
  sexualisierte digitale Gewalt\, digitalen Identitätsdiebstahl und
  „Deep Fake“-Porno Videos (die sich alle mehr oder weniger immer gegen
  Frauen und queere Menschen richten) macht Bitch Hunt zu einem der
  wichtigsten Sachbücher des Jahres.\n\nBitch Hunt. Warum wir es lieben\,
  Frauen zu hassen\, Verbrecherverlag\, 272 S\n\nEine Veranstaltung von
  Montage in Zusammenarbeit mit Emanzipation und Frieden
LOCATION:Theater RAMPE\, Filderstraße 47\, 70180 Stuttgart
GEO:48.7638025;9.1706208
ORGANIZER:mailto:Emma und Fritz ,Montagegruppe
END:VEVENT
END:VCALENDAR
