BEGIN:VCALENDAR
VERSION:2.0
PRODID:eintopf.info
METHOD:REQUEST
BEGIN:VEVENT
UID:3c39d5f6-671e-49c7-b6a1-6f80c56af3d4
SUMMARY:Rems-Queer-Kreis Gruppentreffen zu Queerer Kunst
DTSTART:20241005T120000Z
URL:https://eintopf.info/event/3c39d5f6-671e-49c7-b6a1-6f80c56af3d4
DTEND:20241005T160000Z
CATEGORIES:Offenes Treffen\,Queer
DESCRIPTION:🏳️‍🌈 Bei unserem Gruppentreffen im Oktober wird es
  wieder kreativ und informativ. 🏳️‍🌈\n\n🧶 Wir werden wieder
  einmal zusammen häkeln. \n\n✏️ Es wird auch die Möglichkeit geben
  Taschen zu bemalen.\nWenn du schon weißt\, dass du häkeln willst\,
  bring bitte eine eigene Häkelnadel mit. Generell haben wir sonst alle
  benötigten Materialien vor Ort\, aber wenn du noch etwas eigenes
  mitbringen willst kannst du das gerne machen.\n\n📚 Außerdem wird es
  eine spannende Präsentation geben\, zum Thema "Queere Kunst".\n\n🕑
  Das Treffen geht wieder von 14 uhr bis 18 uhr. Die Präsentation beginnt
  um 15 uhr.\n\n🪑 Wer nicht an der Präsentation teilnehmen oder basteln
  möchte\, kann trotzdem gerne vorbei kommen und einfach
  chillen\n\n-----\n\n🏳️‍🌈 Der Rems-Queer-Kreis ist eine
  Jugendgruppe für queere Jugendliche bis 27 Jahren. Also offen für alle
  die sich als lesbisch\, schwul\, bisexuell\, pansexuell\, trans\, inter\,
  queer\, asexuell oder aromantisch etc. identifizieren. Auch Allys\,
  Neugierige und Menschen\, die sich fragen ob sie vielleicht queer sind
  sind willkommen. \n\n📆 Wir treffen uns am 1. Samstag im Monat meist
  von 14-18 Uhr. Die Adresse\, an der wir uns treffen\, ist die
  Mühlstraße 3 in Backnang. Dort befinden sich das selbstverwaltete
  Jugendzentrum und die Mobile Jugendarbeit. Manchmal machen wir auch
  Ausflüge\, dann ist der Treffpunkt dafür online einsehbar. Mehr über
  die Treffpunkte und ihre Barrieren findest du auf unserer Webseite:
  https://queer.jugendarbeit-rm.de/barrieren/\n\n🎲🗣️ Grundsätzlich
  ist der Raum offen für Austausch\, Beisammensein und stöbern am
  Infotisch mit Flyern und Broschüren. Meistens gibt es wechselndes
  Programm wie Spiele\, Workshops und Aktionen.\n\n💰 Wir versuchen alle
  unsere Angebote kostenlos zu machen. Wenn etwas Geld kostet\, steht das
  extra dabei.\n\n🫵🏾 Wir freuen uns\, wenn du dich in unsere
  Planungen einbringen willst. Die Termine unserer offenen Orga Treffen
  findest du auf unseren Profilen in den sozialen Netzwerken.
LOCATION:Juze Backnang\, Mühlstraße 3\, Backnang
GEO:48.94637055;9.42021475
ORGANIZER:mailto:Rems Queer Kreis
END:VEVENT
END:VCALENDAR
