BEGIN:VCALENDAR
VERSION:2.0
PRODID:eintopf.info
METHOD:REQUEST
BEGIN:VEVENT
UID:3ac82e5d-8356-489d-a94d-4c78d380e504
SUMMARY:UTOPIA Kiosk Soli-Party
DTSTART:20260131T190000Z
URL:https://eintopf.info/event/3ac82e5d-8356-489d-a94d-4c78d380e504
CATEGORIES:Konzert & Party\,Queer
DESCRIPTION:it's here!!! As promised two very cool DJ sets for our
  Soli-Party on January 31st B)\n\nDoors will open at 20:00!!! And
  then...\n\n22:00-00:00 @mimimaxaieie ☞ Mimi‘s sound moves fluidly
  between Baile Funk\, Afro\, House\, UGK\, Jersey & RnB always paired with
  Hip-Hop & Soul influences from her childhood. Today her sound is all
  about bounce\, danceability & inclusivity. Through her work as a
  multi-creative artist\, she has a good feel for how sound quality\,
  zeitgeist and the energy in the room fit together.\n\n00:00-closing
  @talvez_u.natacha ☞ only mixing FLINTA* artists of
  alt/dark/neo-perreo\, reggaetón old-skul y commercial. The only reason
  ☆ you will hear a man on the set is because he collabed — with a
  FLINTA* person. Kinda promoting rising artists and also the ones that
  have been there fighting for their place — they have songs worth
  dancing a ☆ dirty perreo ☆ Our ☆ dance floor ☆ is political
  cuties.\n\nCome support us this 2026\, bring your friends and sip some
  drinks. Our bar is one of the main ways we support ourselves.\n\nBy doing
  this you're also keeping the UTOPIA Kiosk alive and allowing it to grow
  even more this new year. It funds our space\, our workshops\,
  performances\, exhibitions\, concerts\, and our mission to provide a
  ✧⁠*⁠。 safer space for queer\, BIPoC and FLINTA*
  folks.✧⁠*⁠。
LOCATION:UTOPIA Kiosk\, Lazarettstraße 5\, 70182 Stuttgart
GEO:48.7730256;9.18134848847793
ORGANIZER:mailto:UTOPIA Kiosk
END:VEVENT
END:VCALENDAR
