BEGIN:VCALENDAR
VERSION:2.0
PRODID:eintopf.info
METHOD:REQUEST
BEGIN:VEVENT
UID:39945d61-2834-4013-983b-12b93a54e2af
SUMMARY:Queering Urban Spaces - Barrowed Feelings
DTSTART:20250913T183000Z
URL:https://eintopf.info/event/39945d61-2834-4013-983b-12b93a54e2af
CATEGORIES:Sonstiges\,Queer
DESCRIPTION:Barrowed Feelings is an intimate reading performance by Cat
  Jones and Jota Kayodê Ramos that explores the complexity of pain\,
  change\, and joy. Through spoken word and sound\, they navigate their
  sense of self\, break generational curses of toxic masculine patterns\,
  hold space for their femininity in ways that do not align with the world
  at large\, and confront the struggle to exist in a world that wants brown
  and black trans masculinity unalive.
LOCATION:UTOPIA Kiosk\, Lazarettstraße 5\, 70182 Stuttgart
GEO:48.7730256;9.18134848847793
ORGANIZER:mailto:UTOPIA Kiosk
END:VEVENT
END:VCALENDAR
