BEGIN:VCALENDAR
VERSION:2.0
PRODID:eintopf.info
METHOD:REQUEST
BEGIN:VEVENT
UID:37cb4c4e-a21b-414a-8f0a-87e0ca71ad45
SUMMARY:Vorstellung der Organisierten Autonomie
DTSTART:20251027T180000Z
URL:https://eintopf.info/event/37cb4c4e-a21b-414a-8f0a-87e0ca71ad45
CATEGORIES:Offenes Treffen\,Antimilitarismus
DESCRIPTION:Du möchtest etwas gegen Krieg\, Sozialabbau und
  Rechtsentwicklung tun? Du möchtest dich für eine solidarische
  Gesellschaft einsetzen?\nDann komm zu unserer Veranstaltung \, lerne uns
  kennen und werde mit uns aktiv.\n\nWir stellen uns und unsere Praxis vor
  und geben Einblicke in unsere strategischen Leitlinien. Anhand
  verschiedener Initiativen zeigen wir Dir Möglichkeiten auf\, wie Du Dich
  aktiv einbringen kannst.\n\nMontag\, 27. Oktober\, 19 Uhr\nim
  Stadtteilzentrum Gasparitsch\n\nstuttgart.organisierte-autonomie.org |
  www.organisierte-autonomie.org\n\n  \n
LOCATION:Stadtteilzentrum Gasparitsch\, Rotenbergstr. 125\, 70190 Stuttgart
GEO:48.788058;9.2116285
ORGANIZER:mailto:organisierte autonomie Stuttgart
END:VEVENT
END:VCALENDAR
