BEGIN:VCALENDAR
VERSION:2.0
PRODID:eintopf.info
METHOD:REQUEST
BEGIN:VEVENT
UID:3650ad37-778a-4ee5-82d5-0ae6ea22a113
SUMMARY:Café am Dienstag
DTSTART:20260210T143000Z
URL:https://eintopf.info/event/3650ad37-778a-4ee5-82d5-0ae6ea22a113
DTEND:20260210T170000Z
CATEGORIES:Gesellig\,Sonstiges
DESCRIPTION:Wir laden Euch zu einem gemütlichen Beisammensein bei Kaffee\,
  Tee und Kuchen ein!\nKommt vorbei – auf einen netten Nachmittag zum
  gemeinsamen Reden und Austausch\, auf einen kurzen Besuch oder auf einen
  Plausch!\n\nJeden zweiten Dienstag im Monat und immer am letzten Dienstag
  im Monat\nvon 15:30 Uhr – 18 Uhr\n\nWir freuen uns auf Euch!
LOCATION:Stadtteilzentrum Gasparitsch\, Rotenbergstr. 125\, 70190 Stuttgart
GEO:48.788058;9.2116285
ORGANIZER:mailto:Stadtteilzentrum Gasparitsch
END:VEVENT
END:VCALENDAR
