BEGIN:VCALENDAR
VERSION:2.0
PRODID:eintopf.info
METHOD:REQUEST
BEGIN:VEVENT
UID:337b5440-50f0-4ba8-be5c-31e44987c1c7
SUMMARY:Queering Urban Spaces - Zines + The Queer City
DTSTART:20250914T130000Z
URL:https://eintopf.info/event/337b5440-50f0-4ba8-be5c-31e44987c1c7
CATEGORIES:Workshop\,Queer
DESCRIPTION:Zines sind kleine\, selbstveröffentlichte Hefte\, mit denen
  wir Ideen\, Geschichten und Kunst außerhalb konventioneller Strukturen
  teilen können. Sie sind DIY\, experimentell und kraftvolle Werkzeuge\,
  um alternative Realitäten zu imaginieren und zu gestalten. In diesem
  Workshop laden wir euch ein\, eure eigenen queeren Stadtlandschaften zu
  gestalten.Durch Collagen\, Texte und Bilder stellen wir uns städtische
  Räume vor\, die von Fürsorge\, Sehnsucht und kollektiver Kreativität
  geprägt sind. Straßen\, Ecken\, Dächer und Gassen werden zu Seiten\,
  auf denen Queerness das bestimmt\, was gesehen\, gefühlt und geteilt
  wird.\n\nKeine Vorkenntnisse notwendig\, Material gibt es vor Ort.
LOCATION:UTOPIA Kiosk\, Lazarettstraße 5\, 70182 Stuttgart
GEO:48.7730256;9.18134848847793
ORGANIZER:mailto:UTOPIA Kiosk
END:VEVENT
END:VCALENDAR
