BEGIN:VCALENDAR
VERSION:2.0
PRODID:eintopf.info
METHOD:REQUEST
BEGIN:VEVENT
UID:322b712c-b894-427b-9b37-73ec4321adcf
SUMMARY:„Rosensteinbebauung und das Stuttgarter Klima“
DTSTART:20240304T180000Z
URL:https://eintopf.info/event/322b712c-b894-427b-9b37-73ec4321adcf
DESCRIPTION:Die Klimakrise weltweit steuert auf irreversible Kipppunkte mit
  verheerenden Folgen zu. In Metropolen mit enger Bebauung\, gar noch in
  Kessellage wie in Stuttgart\, sind die Klimaszenarien noch einmal
  bedrohlicher. Die Hitzesommer in den letzten Jahren sollten allen eine
  Warnung sein.\nWas würden die Folgen sein\, wenn bei diesen Aussichten
  in einer besonders klimasensiblen Zone Stuttgarts ein neuer Stadtteil
  namens Rosensteinquartier gebaut werden würde?\nDie Mehrheit des
  Stuttgarter Gemeinderats und die Verwaltungsspitze gehen dieser Frage
  seit Jahren aus dem Weg. Infolgedessen durfte die Abteilung
  Stadtklimatologie immer nur die Frage beantworten\, WIE dort gebaut
  werden soll\, aber nicht OB dort gebaut werden soll.\n\nNach der
  Veranstaltung (gegen 20.30 Uhr) besteht Gelegenheit zu Gesprächen\nbei
  Brezeln und Weinen vom Städtischen Weingut.\n\nIn der AG Stadtklima
  wirken mit:\nStuttgarter Klima- und Umweltbündnis KUS\, Aktionsbündnis
  gegen Stuttgart 21\, Naturschutzbund NABU Stuttgart\n\nNach der
  Veranstaltung (gegen 20.30 Uhr) besteht Gelegenheit zu Gesprächen bei
  Brezeln und Weinen vom Städtischen
  Weingut.\n\nhttps://kopfbahnhof-21.de/veranstaltungen/rosensteinbebauung-
 und-das-stuttgarter-klima-4-maerz-19h-rathaus-stuttgart/
LOCATION:Stuttgarter Rathaus\, Großer Saal
ORGANIZER:mailto:Die FrAktion,Aktionsbündnis gegen Stuttgart
  21,Naturschutzbund NABU Stuttgart,Stuttgarter Klima- und Umweltbündnis
  KUS
END:VEVENT
END:VCALENDAR
