BEGIN:VCALENDAR
VERSION:2.0
PRODID:eintopf.info
METHOD:REQUEST
BEGIN:VEVENT
UID:30b2032d-3fb9-4b12-9559-0df21b144f9c
SUMMARY:Kunst und Kakao & Co. - Kinder und Jugendlichenprogramm bei
  UkrainBW e.V.
DTSTART:20251031T140000Z
URL:https://eintopf.info/event/30b2032d-3fb9-4b12-9559-0df21b144f9c
DTEND:20251031T160000Z
CATEGORIES:Workshop\,Sonstiges
DESCRIPTION:Mit spannenden Angeboten : Basteln / Zeichnen / Quizze /
  Eurythmie / Brettspiele\n\nJeden Freitag verbringt ihr Zeit beim Malen\,
  Basteln\, Tanzen\, Spielen.\nWir bereiten coole Getränke zusammen und
  haben Spaß!\n\n
LOCATION:Begegnungsraum e.V. Stuttgart\, Breitscheidstraße 2F
GEO:48.780469499999995;9.171318150000003
ORGANIZER:mailto:UkrainBW e.V. 
END:VEVENT
END:VCALENDAR
