BEGIN:VCALENDAR
VERSION:2.0
PRODID:eintopf.info
METHOD:REQUEST
BEGIN:VEVENT
UID:307e0dbb-7f3c-486e-97be-25ca3d3543f2
SUMMARY:Betroffenen-Treffen im Nachgang zum 7.März
DTSTART:20260321T100000Z
URL:https://eintopf.info/event/307e0dbb-7f3c-486e-97be-25ca3d3543f2
CATEGORIES:Offenes Treffen\,Antifaschismus
DESCRIPTION:Am 21. März organisieren wir um 11 Uhr ein Treffen für alle\,
  die vom Polizeikessel auf dem Marienplatz bei den Protesten am 07. März
  betroffen waren. Das Treffen findet im Linken Zentrum Lilo Herrmann
  (Böblinger Str. 105\, 700199 Stuttgart) statt. Wir wollen uns über
  unsere Erlebnisse austauschen\, über die rechtliche Lage sprechen und
  gemeinsam brunchen. Es werden außerdem ein Anwalt und Ansprechpersonen
  der Roten Hilfe vor Ort sein. Gemeinsam möchten wir Fragen beantworten
  und mögliche Sorgen thematisieren. Dabei ist es egal\, ob ihr direkt von
  der Polizeigewalt betroffen wart oder ihr das Geschehen "nur" beobachtet
  habt. Uns ist bewusst\, dass diese Erfahrungen prägend sein können und
  möchten den Raum dafür öffnen\, über das Erlebte und Gesehene zu
  sprechen. Es wird auch eine Kinderbetreuung vor Ort geben. Bei Fragen
  meldet euch jederzeit gerne! Wir lassen keine:n allein ✊🏼🚩.
LOCATION:Linkes Zentrum Lilo Herrmann\, Böblinger Straße 105\, 70199
  Stuttgart
GEO:48.7618266;9.1567994
ORGANIZER:mailto:Stuttgart gegen Rechts
END:VEVENT
END:VCALENDAR
