BEGIN:VCALENDAR
VERSION:2.0
PRODID:eintopf.info
METHOD:REQUEST
BEGIN:VEVENT
UID:2f449968-1ed2-45be-8376-95469f208673
SUMMARY:Umsonst & Draußen Plenum
DTSTART:20220615T180000Z
URL:https://eintopf.info/event/2f449968-1ed2-45be-8376-95469f208673
DESCRIPTION:Unsere Orga heißt „Plenum„. Wir treffen uns das ganze Jahr
  über\, um das U&D vorzubereiten. Im Herbst und Winter in längeren
  Abständen\, im Frühling öfter und vor dem U&D wöchentlich.\n\nZum
  Plenum kann jede*r kommen\, mitreden\, vorschlagen\,
  mitentscheiden.\n\nUnser Festival lebt von den Ideen\, die im Plenum
  einfließen und gemeinsam weiterentwickelt werden. Der kreative Teil des
  Umsonst & Draußen findet das ganze Jahr über statt: Konzerte besuchen\,
  spannende kulturelle Highlights entdecken und auswählen\, Kontakte zu
  anderen zivilgesellschaftlichen und kulturellen Initiativen pflegen\,
  Gedankenaustausch darüber\, was gut gelaufen ist und was noch verbessert
  werden kann.
LOCATION:Huong Viet\, Presselstraße 21-23\, 70191 Stuttgart  \, Zwischen
  den Haltestellen Pragfriedhof und Löwentorbrücke. Diesmal NICHT wie
  sonst üblich im Naturfreundehaus Steinbergle!
ORGANIZER:mailto: Umsonst & Draußen Kultur e.V. Stuttgart
END:VEVENT
END:VCALENDAR
