BEGIN:VCALENDAR
VERSION:2.0
PRODID:eintopf.info
METHOD:REQUEST
BEGIN:VEVENT
UID:2f3850b5-cd5b-48f3-85a3-04799c2f7604
SUMMARY:Tauschaktion: Bargeld gegen Gutscheine
DTSTART:20260425T090000Z
URL:https://eintopf.info/event/2f3850b5-cd5b-48f3-85a3-04799c2f7604
DTEND:20260425T110000Z
CATEGORIES:DIY\,Antirassimus
DESCRIPTION:Nein zur Bezahlkarte – Geflüchteten Bargeld wieder
  zugänglich machen.\nStell dir vor\, du dürftest im Monat nur 50€ in
  bar abheben und andere alltägliche Transaktionen wären für dich
  plötzlich komplizierter oder gar unmöglich. Dabei lebst du ohnehin
  schon unter dem Existenzminimum.\n\nSeit der schrittweisen Einführung
  der Bezahlkarte ist genau das für viele Geflüchtete in Deutschland
  Realität geworden\, auch in Ludwigsburg und dem Landkreis. Aus diesem
  Grund organisieren wir solidarische Tauschaktionen.\nIn Ludwigsburg bauen
  wir eine lokale Tauschbörse auf\, die Geflüchteten wieder Bargeld
  zugänglich macht. Und so funktioniert’s:\n• Personen mit Bezahlkarte
  kaufen mit der Bezahlkarte z. B. einen Rewe- oder DM-Gutschein.\n• Sie
  bringen diesen Gutschein zur Tauschbörse und tauschen ihn gegen Bargeld
  ein.\n\n• Jemand tauscht diesen Gutschein wieder gegen Bargeld
  ein.\nFür dich ändert sich beim Einkaufen nichts – für die
  geflüchtete Person aber sehr viel!\nDamit die Tauschaktionen
  regelmäßig stattfinden\, brauchen wir solidarische Menschen\, die
  Gutscheine gegen Bargeld eintauschen. Kommt zur Tauschaktion und zeigt
  Betroffenen:\nIhr seid nicht allein! Ihr seid nicht egal! Ihr gehört
  dazu!
LOCATION:Demokratisches Zentrum Ludwigsburg (DemoZ)\,  Wilhelmstr. 45/1
  71638 Ludwigsburg 
GEO:48.89585;9.18429
ORGANIZER:mailto:Demokratisches Zentrum Ludwigsburg (DemoZ)
END:VEVENT
END:VCALENDAR
