BEGIN:VCALENDAR
VERSION:2.0
PRODID:eintopf.info
METHOD:REQUEST
BEGIN:VEVENT
UID:2e7c6c91-dc6a-43a2-b8ca-50569694f4ce
SUMMARY: FÄLLT AUS: Rems-Queer Kreis offener Jugendtreff
DTSTART:20260307T130000Z
URL:https://eintopf.info/event/2e7c6c91-dc6a-43a2-b8ca-50569694f4ce
DTEND:20260307T130500Z
CATEGORIES:Offenes Treffen\,Queer
DESCRIPTION:Am 07.03.2026 fällt der Rems-Queer-Kreis Jugendtreff aus. Wir
  empfehlen stattdessen Ausschau nach dem "Tag der Gleichberechtigung"
  unseres Schwester-Arbeitskreises EQUALize zu halten. Dieser wird im
  Backanger Stadtzentrum für Menschen aller Altersstufen\, jedes
  Geschlechts und jeder sexuellen Orientierung
  stattfinden.\n\n-----------------------------------------------\n\n🏳
 ️‍🌈 Der Rems-Queer-Kreis ist eine offene LSBTTIQA* Jugendgruppe\,
  die Anfang 2020 aus Eigeninitiative von queeren Jugendlichen entstand.
  Seitdem findet jeden ersten Samstag im Monat unser Gruppentreffen mit
  wechselnden Themenschwerpunkten statt\, bei dem wir uns chillen\,
  quatschen und einen Tisch mit Flyern und Büchern aufgebaut
  haben.\n\n📆 Meistens treffen wir uns am ersten Samstag im Monat von
  14-18 Uhr in der Mühlstraße 3\, 71522 Backnang. Der genaue Treffpunkt
  und Themenschwerpunkt werden spätestens zwei Wochen vor dem Treffen
  veröffentlicht.\n\n💰 Wir versuchen alle unsere Angebote kostenlos zu
  machen. Wenn etwas Geld kostet\, steht das extra
  dabei.\n\n🏳️‍⚧️ Die Gruppe ist offen für alle Jugendliche bis
  27 Jahre\, die sich als lesbisch\, schwul\, bisexuell\, pansexuell\,
  trans\, inter\, queer\, asexuell oder aromantisch etc. identifizieren.
  Auch Allys\, Neugierige und Menschen\, die sich fragen ob sie vielleicht
  queer sind\, sind willkommen.\n\n👥 Der Jugendtreff ist ein Projekt des
  Kreisjugendring Rems-Murr e.V.\n\n🫵🏽 Hast du Lust queere
  Jugendarbeit im ländlichen Raum zu unterstützen? Dann werde Teil
  unseres Orga Teams\, denn der Rems-Queer-Kreis lebt von uns Queers\, die
  sich das Programm selbst gestalten! Schreib uns eine Privatnachricht oder
  komm zu einem offenen Orga Treffen! Die Termine findest du auf unseren
  Socials.\n\nInstagram: @rems_queer_kreis\nMastodon:
  lsbt.me/@rems_queer_kreis
LOCATION:Juze Backnang\, Mühlstraße 3\, Backnang
GEO:48.94637055;9.42021475
ORGANIZER:mailto:Rems Queer Kreis
END:VEVENT
END:VCALENDAR
