BEGIN:VCALENDAR
VERSION:2.0
PRODID:eintopf.info
METHOD:REQUEST
BEGIN:VEVENT
UID:2d829ae7-93cb-4f52-9275-5dd271feec74
SUMMARY:Jam Session im März
DTSTART:20260313T190000Z
URL:https://eintopf.info/event/2d829ae7-93cb-4f52-9275-5dd271feec74
CATEGORIES:Gesellig\,Kunst
DESCRIPTION:Opening Act: Sarah Penalba & Band\n\nWANTED: Alle die Musik
  machen wollen und alle die Lust auf Live-Musik haben.\n\nWir stellen\;
  Schlagzeug\, Bass\, Keys\, Gitarre und Mikrofone. Es gibt Getränke\,
  Livemusik\, Bänke zum sitzen und Barkeeper zum quatschen. Es wird
  schräge Töne und Taktfehler geben\, Freudentränen\, und ganz arg viel
  Liebe für Musik. Versprochen!\nKeine Beurteilung\, keine Grenzen\, keine
  Selbstdarstellung\, und Niemand der Dir sagt wie Du musizieren
  sollst.\nJedes Instrument das durch das Treppenhaus passt darf mit nach
  unten in den Veranstaltungsraum!\n…und hast Du schlechte Laune\, dann
  bring sie mit!\n\nWas wir wünschen: Respekt\, Akzeptanz\, Support\,
  Teilhabe\, Kommunikation\, Rücksicht und vielleicht auch eigene
  Instrumentenkabel und eigene Instrumente.\n\nweitere
  Termine:\n17.04.\n22.05. \n19.06.\n24.07.\nSommerpause
LOCATION:Stadtteilzentrum Gasparitsch\, Rotenbergstr. 125\, 70190 Stuttgart
GEO:48.788058;9.2116285
ORGANIZER:mailto:Stadtteilzentrum Gasparitsch
END:VEVENT
END:VCALENDAR
