BEGIN:VCALENDAR
VERSION:2.0
PRODID:eintopf.info
METHOD:REQUEST
BEGIN:VEVENT
UID:2d35da24-b300-4c00-afb2-f7f72eaf9175
SUMMARY:Workshop mit Tafadzwa Chando aus Simbabwe
DTSTART:20240322T170000Z
URL:https://eintopf.info/event/2d35da24-b300-4c00-afb2-f7f72eaf9175
DTEND:20240322T190000Z
DESCRIPTION:Diesen Freitag kommt der Klimagerechtigkeitsaktivist Tafadzwa
  Chando auf seiner Deutschlandtour auch bei uns vorbei!\n🗓 Freitag\,
  22.3\, 18-20 Uhr\n📍 Forum 3 \, Gymnasiumstraße 21\, Stadtmitte\n\nDer
  Workshop macht deutlich\, wie die Auswirkungen der Klimakrise auf
  indigene Communities im südlichen Afrika wirken. Es geht darum\, welche
  Bedeutung indigenes Wissen im Kampf gegen die Klimakrise hat und was es
  für lokale Lösungen gibt sowie die Ungerechtigkeiten\, die die Menschen
  erfahren.\nSei dabei\, wenn wir in die Diskussion gehen\, um die Hebel
  aufzudecken\, die wir als deutsche Gesellschaft haben\, um global
  Menschenrechte zu schützen und mit der Klimakrise umzugehen. \n\nDieser
  Workshop ist Teil eines größeren Projekts\, das von Tafadzwa und
  weiteren Aktivist:innen ins Leben gerufen wurde\, um kollektives Handeln
  gegen die Klimakrise anzuregen.\n\n💚Komm vorbei! Der Workshop läuft
  auf Spendenbasis und du musst dich nicht anmelden. Bring gerne alle deine
  Freund:innen mit!
LOCATION:Forum 3\, Gymnasiumstraße 21
ORGANIZER:mailto:Fridays for Future Stuttgart
END:VEVENT
END:VCALENDAR
