BEGIN:VCALENDAR
VERSION:2.0
PRODID:eintopf.info
METHOD:REQUEST
BEGIN:VEVENT
UID:2aa9e94b-4ead-4350-a336-07a0f7c44c29
SUMMARY:Mobilität für Alle - Konferenz
DTSTART:20241122T170000Z
URL:https://eintopf.info/event/2aa9e94b-4ead-4350-a336-07a0f7c44c29
DTEND:20241124T170000Z
CATEGORIES:Sonstiges\,Klimagerechtigkeit
DESCRIPTION:Kesselbambule und Ende Gelände Süd hosten die erste
  Mobilität für Alle – Konferenz in Stuttgart! Wir kommen für ein
  Wochenende zusammen\, um über eine Mobilität zu sprechen\, die für uns
  alle und klimagerecht ist. Dabei wird es zwei Stränge geben:\n\nDer
  Kesselbambule-Strang ist für Menschen und Gruppen aus Stuttgart und
  Region. In Workshops und Vernetzungsslots wollen wir über lokale Themen
  und von unserer jeweiligen Expertise lernen und uns für zukünftige
  Zusammenarbeit vernetzen.\n\nIm Ende Gelände-Strang wird es besonders um
  das Thema Vergesellschaftung gehen. Auch hier sind Workshops\, Vorträge
  und Vernetzung geplant.\n\nNatürlich fehlen auch gemeinsames
  Rahmenprogramm\, leckeres Essen\, Feiern und nettes Beisammensein nicht.
  - Also markiere dir den Termin im Kalender und sei dabei! Weitere Infos
  kommen bald.
LOCATION:Prisma\, Bahnhofstraße 14-18\, 70372 Stuttgart
GEO:48.8024492;9.2171569
ORGANIZER:mailto:Kesselbambule,Ende Gelände Süd
END:VEVENT
END:VCALENDAR
