BEGIN:VCALENDAR
VERSION:2.0
PRODID:eintopf.info
METHOD:REQUEST
BEGIN:VEVENT
UID:29ede5cc-e32e-42f7-b933-8f84d5596b4d
SUMMARY:Feminizid vs. Femizid: Lasst uns offen über Frauenmord und
  geschlechtsspezifische Gewalt sprechen!
DTSTART:20220607T170000Z
URL:https://eintopf.info/event/29ede5cc-e32e-42f7-b933-8f84d5596b4d
DESCRIPTION:Input & Diskussion mit LaFuchsiaKollektiva\n\nDie Tötung von
  Frauen* im familiären oder nicht familiären Umfeld heißt Femizid. Ein
  noch wichtigerer Begriff ist Feminizid\, da dieser die Verantwortung der
  staatlichen Institutionen in Sachen Gewalt gegen Frauen*
  berücksichtigt.\n\nDie Vernachlässigung der Institutionen bei
  wiederkehrender Gewalt innerhalb der Familie\, oder die inhärente
  Mordgefahr bei Abtreibungen in einem nicht geschützten Rahmen\, sind
  klare Beispiele von Feminiziden. Wir wollen den Begriffen Femizid und
  Feminizid nachgehen und mit Unterstützung weiterer Personen und
  Institutionen unter bestimmten Aspekten dieses Missverhältnis
  erforschen. Warum fühlen sich beispielsweise Frau-en* schuldig und
  verantwortlich für die Aggressionen anderer? Warum bleiben so viele
  Morde und Gewalt an Frauen* ungestraft und werden verschwiegen? Welche
  Aufgaben haben die staatlichen Institutionen und welche werden von diesen
  vernachlässigt? Warum gelten Diskriminierung und Gewalt gegen Frauen*
  als Normalität? Warum ist vielen Menschen in Deutschland die Bedeutung
  des Wortes Feminizid unbekannt?\n\nDer Abend ist offen für alle Menschen
  und ist kostenlos. Über einen Wertschätzungsbeitrag freuen wir uns. Die
  Teilnahme (begrenzt) ist nur mit Anmeldung bis 6.6. möglich:
  tendertuesday@ffgzstuttgart.de\n
LOCATION:Feministisches Frauen*gesundheitszentrum\, Kernerstr. 31
GEO:48.78291135;9.190362432796828
ORGANIZER:mailto:Feministisches Frauen*gesundheitszentrum 
END:VEVENT
END:VCALENDAR
