BEGIN:VCALENDAR
VERSION:2.0
PRODID:eintopf.info
METHOD:REQUEST
BEGIN:VEVENT
UID:29c4b1d3-6689-4b33-b7ae-6829405c9e26
SUMMARY:Queerer Jugendtreff mit Pride-Kürbissen und Austausch über Kinks
DTSTART:20251004T120000Z
URL:https://eintopf.info/event/29c4b1d3-6689-4b33-b7ae-6829405c9e26
DTEND:20251004T160000Z
CATEGORIES:Offenes Treffen\,Queer
DESCRIPTION:🏳️‍🌈 🎃 Bastelt Pride-Kürbise und nehmt am
  Austausch über Konsens und K!nks teil! 💬🗨️\n\n📆 Am Samstag\,
  den 04.10. findet von 14-18 Uhr unser nächster queerer Jugendtreff im
  Juze Backnang statt. Eingeladen sind queere oder interessierte junge
  Menschen ab 14 Jahren. Wir freuen uns gleichermaßen über "alte
  Häs*innen" der Gruppe und neue Gesichter. Es ist ein Bastelangebot
  geplant\, bei dem wir Kürbise in Pride-Farben gestalten. Auch\, wenn ihr
  statt basteln einfach neue Freund*innen finden oder einen entspannten
  Nachmittag verbringen möchtet\, seid ihr herzlich eingeladen. Neben
  kostenlosen Snacks und (von Juze verkauften) Getränken stehen auch
  Kartenspiele und unser Infotisch bereit.\n\n🫦 Ab 15 Uhr beginnt für
  Queers zwischen 16 - 28 Jahren in einem getrennten Raum eine
  Austauschrunde zum Thema Konsens und K!nks. Zwei Menschen aus unserem
  Orga Team gestalten auf euren Wunsch hin diesen Themenschwerpunkt\, der
  sich mit der "trockenen Theorie" und euren Fragen befasst. Eine Anmeldung
  für den Tag\, Vorerfahrungen oder Vorwissen zum Thema K!nks sind nicht
  notwendig. \nEs beginnt mit einem Input zum Thema Konsens: Wie kann ich
  meine eigenen Wünsche und Grenzen wahrnehmen? Wie kann ich diese
  kommunizieren? Warum sind Pommes nicht nur lecker\, sondern "FRIES" auch
  eine Merkhilfe in Bezug auf Konsens?\nDanach wird es um Grundlagenwissen
  zu K!nks gehen\, bei dem die Teilnehmenden Fragen insbesondere zum Thema
  Safer Seggs stellen und diskutieren können. Als Unterstützung wird das
  Konzept Risk-Aware Consensual K!nk (RACK) vorgestellt.\nSchließlich soll
  es auch darum gehen\, warum in der Community viele neurodivergente
  Menschen vertreten sind und welche Besonderheiten sich für sie ergeben.
  Neurodivergenz bedeutet\, dass die Gehirne von uns Menschen
  unterschiedlich funktionieren. Im medizinischen Bereich werden
  neurodivergenten Menschen zum Beispiel die Diagnosen Autismus\, ADHS und
  ähnliche gestellt. 🧠\nGerne könnt ihr Themen sammeln\, die wir im
  Winter bei einem Workshop mit einer Seggsualpädagogin vertiefen
  können.\n\n❗ Der Raum soll für alle ein sicherer sein\, daher werden
  alle gebeten Aussagen über persönliche Vorlieben etc.\, die andere im
  Workshop gesagt haben oder wer teilgenommen hat\, nicht nach außen zu
  tragen. Themen werden nur besprochen\, wenn alle Anwesenden okay damit
  sind. Wenn sich Menschen unwohl fühlen\, gibt es die Möglichkeit den
  Workshop jederzeit zu verlassen und gegebenenfalls ein Einzelgespräch
  mit einer der zwei Orga-Personen zu führen. Bei grenzüberschreitendem
  Verhalten werden Personen von der Teilnahme am Jugendtreff
  ausgeschlossen.\n👢 Es ist keine Play Party! Bitte kommt in
  "streetsafer" Kleidung\, also so wie ihr im Alltag gekleidet seid und
  nicht wie für eine Party. Es ist unerwünscht andere Teilnehmende
  anzubaggern. Bitte bringt auch keine Seggs Toys oder ähnliches
  mit.\n\n\n------------------------\n\n🏳️‍🌈 Der Rems-Queer-Kreis
  ist eine offene LSBTTIQA* Jugendgruppe\, die Anfang 2020 aus
  Eigeninitiative von queeren Jugendlichen entstand. Seitdem findet jeden
  ersten Samstag im Monat unser Gruppentreffen mit wechselnden
  Themenschwerpunkten statt\, bei dem wir uns chillen\, quatschen und einen
  Tisch mit Flyern und Büchern aufgebaut haben.\n\n📆 Meistens treffen
  wir uns am ersten Samstag im Monat von 14-18 Uhr in der Mühlstraße 3\,
  71522 Backnang. Der genaue Treffpunkt und Themenschwerpunkt werden
  spätestens zwei Wochen vor dem Treffen veröffentlicht.\n\n💰 Wir
  versuchen alle unsere Angebote kostenlos zu machen. Wenn etwas Geld
  kostet\, steht das extra dabei.\n\n🏳️‍⚧️ Die Gruppe ist offen
  für alle Jugendliche bis 27 Jahre\, die sich als lesbisch\, schwul\,
  bisexuell\, pansexuell\, trans\, inter\, queer\, asexuell oder
  aromantisch etc. identifizieren. Auch Allys\, Neugierige und Menschen\,
  die sich fragen ob sie vielleicht queer sind\, sind willkommen.\n\n👥
  Der Jugendtreff ist ein Projekt des Kreisjugendring Rems-Murr
  e.V.\n\n🫵🏽 Hast du Lust queere Jugendarbeit im ländlichen Raum zu
  unterstützen? Dann werde Teil unseres Orga Teams\, denn der
  Rems-Queer-Kreis lebt von uns Queers\, die sich das Programm selbst
  gestalten! Schreib uns eine Privatnachricht oder komm zu einem offenen
  Orga Treffen! Die Termine findest du auf unseren Socials.\n\nInstagram:
  @rems_queer_kreis\nMastodon: lsbt.me/@rems_queer_kreis
LOCATION:Juze Backnang\, Mühlstraße 3\, Backnang
GEO:48.94637055;9.42021475
ORGANIZER:mailto:Rems Queer Kreis
END:VEVENT
END:VCALENDAR
