BEGIN:VCALENDAR
VERSION:2.0
PRODID:eintopf.info
METHOD:REQUEST
BEGIN:VEVENT
UID:29887411-3817-4e15-95c0-46b03593074f
SUMMARY:Kleidertauschparty Greenpaece Stuttgart
DTSTART:20260201T130000Z
URL:https://eintopf.info/event/29887411-3817-4e15-95c0-46b03593074f
DTEND:20260201T150000Z
CATEGORIES:Offenes Treffen\,Sonstiges
DESCRIPTION:Seit Januar 2024 veranstalten wir regelmäßig eine
  Kleidertauschparty! Die Kleidertauschparty findet im Greenpeace Büro in
  der Augustenstraße 57 in Stuttgart-West statt. Eine Anmeldung ist nicht
  notwendig.\n\nBringt einfach bis zu 10 gebrauchte und gewaschene
  Kleidungsstücke mit und tauscht sie gegen neue Lieblingsstücke ein.
  \n\nDabei gelten folgende Regeln:\n\n    nur frisch gewaschene Kleidung\n
     nur Kleidung ohne Löcher oder Dreck\n    keine Unterwäsche\n   
  keine Kinderkleidung\n    Accessoires wie Schals\, Halstücher\, Mützen
  und mehr dürfen auch getauscht werden\n    keine Ohrringe\n\nWir freuen
  uns auf
  euch!\n\nhttps://greenwire.greenpeace.de/greenpeace-stuttgart/events
LOCATION:Greenpeace Büro\, Augustenstraße 57\, 70178 Stuttgart-West\,
  Augustenstraße 57\, 70178 Stuttgart-West
ORGANIZER:mailto:Greenpeace Stuttgart
END:VEVENT
END:VCALENDAR
