BEGIN:VCALENDAR
VERSION:2.0
PRODID:eintopf.info
METHOD:REQUEST
BEGIN:VEVENT
UID:296a7c89-8218-4085-be95-d3f79f6b4fc2
SUMMARY:Gender gerechte Lebensräume
DTSTART:20250928T130000Z
URL:https://eintopf.info/event/296a7c89-8218-4085-be95-d3f79f6b4fc2
DTEND:20250928T140000Z
CATEGORIES:Offenes Treffen\,Feminismus
DESCRIPTION:Was hat der Dienstplan eines Schneepfluges in Schweden mit
  Wasserleitungen im Kongo zu tun? Sie können sich entweder auf den
  Blickwinkel von Männern konzentrieren\, oder die Bedürfnisse von
  Frauen\, queeren Personen und Männern berücksichtigen. Gemeinsam decken
  wir Unsichtbares auf - auch vor Ort in Fellbach.
LOCATION:Alte Kelter Fellbach
ORGANIZER:mailto:Ndwenga e.V.
END:VEVENT
END:VCALENDAR
