BEGIN:VCALENDAR
VERSION:2.0
PRODID:eintopf.info
METHOD:REQUEST
BEGIN:VEVENT
UID:291fcc04-6d9b-4d06-aa49-62f6b413000c
SUMMARY:Mehr als gutes Essen: Diskussionsformat
DTSTART:20250612T170000Z
URL:https://eintopf.info/event/291fcc04-6d9b-4d06-aa49-62f6b413000c
CATEGORIES:Podiumsdiskussion\,Ernährung
DESCRIPTION:Eine Ernährungswende für mehr Klimaschutz in
  Stuttgart?\n\nWie stellt sich die Kommunalpolitik den
  Herausforderungen?\nWie engagiert sich die Praxis bereits – und wo
  stößt sie an ihre Grenzen?\nWelche Unterstützung braucht es\, für
  eine regionale\, faire und klimafreundliche Ernährung in
  Stuttgart?\n\n🥕 Der Ernährungsrat StadtRegion Stuttgart stellt seinen
  neuen Aktionsplan für eine zukunftsfähige Ernährung vor – und lädt
  zum Gespräch ein mit Vertreter/innen aus dem Stuttgarter Gemeinderat\,
  der Stadtverwaltung\, der Landwirtschaft\, der Wissenschaft\, dem Handel
  und sozial-ökologischen Initiativen.\n\n🌍 Zwischendurch kann ein
  Blick in die Ausstellung „Ernährung und Klima“ der Stadt Stuttgart
  geworfen\, oder an dem geplanten Gewinnspiel rund um Hülsenfrüchte
  teilgenommen werden.\n\n🎤 Kommt vorbei\, diskutiert mit und werdet
  Teil des Wandels!\n\nVeranstaltet vom Ernährungsrat StadtRegion
  Stuttgart in Kooperation mit der Raupe Immersatt.\n\nEintritt frei –
  alle sind willkommen!
LOCATION:Raupe Immersatt\, Johannesstraße 97\, Stuttgart
GEO:48.782018;9.1579717
ORGANIZER:mailto:Ernährungsrat Stuttgart
END:VEVENT
END:VCALENDAR
