BEGIN:VCALENDAR
VERSION:2.0
PRODID:eintopf.info
METHOD:REQUEST
BEGIN:VEVENT
UID:28cc5a1d-8dfe-480d-8e3d-122f9995efaf
SUMMARY:Feministisch cornern: Frauen* vereint gegen Gewalt
DTSTART:20231124T200000Z
URL:https://eintopf.info/event/28cc5a1d-8dfe-480d-8e3d-122f9995efaf
DESCRIPTION:Wir alle kennen Situationen wie diese: Wir Frauen und weiblich
  gelesene Personen sind abends oder nachts in öffentlichen
  Verkehrsmitteln unterwegs und uns begegnen Gruppen von Männern -
  manchmal pöbelnd\, angetrunken und laut oder mit dummen Anmachsprüchen.
  Manchmal reicht auch ein einzelner Mann auf einem leeren Bahnsteig\, der
  uns ein unangenehmes Gefühl vermittelt.\nWie oft haben wir uns dann eine
  Bande von Frauen und weiblich gelesenen Personen gewünscht\, die uns ein
  sicheres Gefühl geben können\, eine andere Präsenz vermitteln und sich
  gegenseitig unterstützen und stärken. Genau dies wollen wir am 24.
  November zusammen sein. Wir wollen uns den Raum in der U-Bahn nehmen und
  ihn zumindest für eine kurze Zeit feministisch besetzen.\nGemeinsam
  wollen wir vom Charlottenplatz aus durch das Stuttgarter U-Bahn-Netz
  fahren und in den Zügen und an den Bahnsteigen Präsenz zeigen.\nAm
  Abend vor dem Tag gegen Gewalt an Frauen wollen wir dem patriarchalen
  Normalzustand eine Absage erteilen und nicht hinnehmen\, dass Frauen und
  weiblich gelesene Personen ständig von Gewalt bedroht und betroffen
  sind\, denn gerade auch die öffentlichen Verkehrsmittel und Bahnhöfe
  sind Orte an denen Frauen unsicher sind.\n\nWir fänden es super als
  starke Frauen*gruppe aufzutreten\, also bring gerne noch Freund*innen\,
  Nachbar*innen oder Kolleg*innen mit.\nMacker gibt’s in jeder Stadt –
  bildet Banden\, macht sie platt! Wir freuen uns auf einen schönen Abend
  und auf euch!
LOCATION:Charlottenplatz Stuttgart\, vor dem Club Universum
ORGANIZER:mailto:Sozial, radikal, gegens Kapital,Frauenkollektiv
  Stuttgart,ff:gz,Organisierte Autonomie Stuttgart
END:VEVENT
END:VCALENDAR
