BEGIN:VCALENDAR
VERSION:2.0
PRODID:eintopf.info
METHOD:REQUEST
BEGIN:VEVENT
UID:28bff549-af4a-4f4f-b8b0-5ba1cbba78ce
SUMMARY:organisiert kämpfen für die Freiheit Palästinas mit Anna und
  Sofia von der Conscience - Flotilla
DTSTART:20251113T170000Z
URL:https://eintopf.info/event/28bff549-af4a-4f4f-b8b0-5ba1cbba78ce
CATEGORIES:Vortrag\,Antimilitarismus
DESCRIPTION:Es wird eine eine Ersatzveranstaltung heute am 13.11. um 18 Uhr
  im kurdischen Verein in der Siemensstraße 150 (Stuttgart-Feuerbach)
  stattfinden. Einlass ist ab 17:30 Uhr.\nAm Donnerstag werden Anna und
  Sofia über ihre Erfahrungen auf dem Boot Conscience und ihre Erlebnisse
  im Israelischen Gefängnis erzählen. Danach wollen wir gemeinsam über
  Palästina Solidarität in Deutschland diskutieren. Die Repression der
  Uni Stuttgart (siehe unten) waren nicht erfolgreich\, denn Palästina
  Solidarität lässt sich nicht
  verbieten.\n\nhttps://www.instagram.com/p/DQ_mBq7DAnq/\n\nAm 13.11.
  sollte eine Veranstaltung zu der Freedom Flotilla mit Anna und Sofia von
  der Conscience an der Uni Stuttgart stattfinden. Gestern Abend hat die
  Uni\, die Räumlichkeiten fü die Veranstaltungen entzogen.\nDie
  Begründung war\, dass unklar ist welcher Personenkreis und wie viele
  Personen die Veranstaltung besuchen werden. Das als Grundlage zu nutzen
  um eine Veranstaltung zu verbieten ist lächerlich\, und zeigt wie leicht
  es sich die Uni macht\, politische Veranstaltungen zu verbieten.\nZiel
  war es einen Austausch über Palästina Solidarität an der Uni zu
  schaffen. Denn während sich Universitäten in Deutschland nach außen
  gerne als Politische Orte und Ort des Dialogs schmücken\, haben die
  letzten zwei Jahre gezeigt\, wie weit die Universitäten gehen\, um
  Palästina Solidarität zu kriminalisieren und die deutsche Staatsräson
  auch in den Hörsälen aufrechtzuerhalten. Diese Schikane wird nicht
  unbeantwortet bleiben!\n
LOCATION:Kurdischen Verein\, Siemensstraße 150\, Stuttgart-Feuerbach
GEO:48.8190716;9.169965
ORGANIZER:mailto:youngtruggle Stuttgart
END:VEVENT
END:VCALENDAR
