BEGIN:VCALENDAR
VERSION:2.0
PRODID:eintopf.info
METHOD:REQUEST
BEGIN:VEVENT
UID:2852d0d4-1dab-4478-b95a-4095a49f98d9
SUMMARY:Kleidertauschparty
DTSTART:20240825T090000Z
URL:https://eintopf.info/event/2852d0d4-1dab-4478-b95a-4095a49f98d9
DTEND:20240825T140000Z
CATEGORIES:Sonstiges\,Sonstiges
DESCRIPTION:<Tschüss Sommer\, hallo neue Looks – Der Sommer geht so
  langsam in den Endspurt und ihr habt vielleicht das ein oder andere
  Sommerteil im Schrank\, das einfach nie zum Einsatz kam? Dann seid ihr
  genau richtig bei unserem Kleidertausch am 25. August in Kooperation mit
  Future Fashion und der Kleiderei Stuttgart: Hier finden wir für eure
  aussortierten Teile neue TrägerInnen und euch selbst ’nen neuen\,
  freshen Look.\nWIE FUNKTIONIERT’S?\n\n➜ Bringe ca. 5 Teile (maximal
  10) gut erhaltene und gewaschene „Schrankhüter“ mit\, die anderen
  noch eine Freude machen!\n➜ Das können Kleidungsstücke\, Schuhe\,
  Accessoires & Schmuck sein (No-Go: defekte/dreckige Kleidung\,
  Strumpfwaren & Unterwäsche).\n➜ All sizes and genders are
  welcome!\n➜ Die Tauschstücke gibst du beim Check-In ab und
  dann…\n➜…wird getauscht! Bummel über die Tauschfläche und gib
  anderen Lieblingsstücken ein neues Zuhause!\n➜ Du kannst so viele
  Stücke mitnehmen\, wie du mitgebracht hast. Eins mehr oder weniger ist
  natürlich auch okay.\n➜ Es gibt Spiegel und Ankleidemöglichkeiten\,
  damit das Ertauschte auch möglichst gut ausgewählt und weiterhin viel
  getragen wird.\nWARUM?\n\nJe länger ein Kleidungsstück getragen wird\,
  desto weniger belastet es die Umwelt. Schenke aussortierten
  Kleidungsstücken ein neues Leben und tausche sie gegen andere
  Lieblingsteile ein – ohne dabei Ressourcen zu verschwenden!
  #TauschDichGlücklich\n\nDaneben findet ihr Infostände von Future
  Fashion und der Kleiderei Stuttgart und könnt bei Sabrina an der
  Siebdruckmaschine eure eigene Textilkunst schaffen.\n\nUnd wie immer im
  foodsharing-Café könnt ihr euch vor\, während und nach dem Tausch mit
  kostenlosen geretteten Lebensmitteln aus dem Fairteiler stärken.
  Außerdem gibt’s an der Bar leckere nachhaltige Getränke\, deren Preis
  ihr nach einem solidarischen Prinzip selbst bestimmen dürft und somit
  den Erhalt des Cafés sichert.\n\n \n\nKommt vorbei\, das wird ein Fest!
LOCATION:Raupe Immersatt\, Johannesstraße 97\, Stuttgart
GEO:48.782018;9.1579717
ORGANIZER:mailto:Raupe Immersatt
END:VEVENT
END:VCALENDAR
