BEGIN:VCALENDAR
VERSION:2.0
PRODID:eintopf.info
METHOD:REQUEST
BEGIN:VEVENT
UID:281be6ba-9912-4c2f-a105-d78e9c5a288a
SUMMARY:Tanzdemo Stuttgart 2025
DTSTART:20250705T110000Z
URL:https://eintopf.info/event/281be6ba-9912-4c2f-a105-d78e9c5a288a
CATEGORIES:Demonstration\,Sonstiges
DESCRIPTION:Stuttgart tanzt – friedlich\, gemeinsam\, laut.\nKollektive\,
  Vereine und Crews gestalten das kulturelle Leben dieser Stadt mit Herz\,
  Engagement und unzähligen Stunden ehrenamtlicher Arbeit. Doch Subkultur
  steht unter Druck: fehlende Räume\, bürokratische Hürden\, mangelnde
  Unterstützung.\nMit der Tanzdemonstration setzen wir ein solidarisches
  Zeichen: Für ein lebendiges\, vielfältiges Stuttgart\, das Kultur nicht
  einschränkt – sondern möglich macht. Gemeinsam mit Stadtverwaltung
  und Politik wollen wir Lösungen schaffen\, die Subkultur schützen und
  stärken.\n\nDen genauen Startpunkt und Uhrzeit findet ihr auf unserer
  Website https://tanzdemo-stuttgart.de/ oder auf Instagram
  https://www.instagram.com/tanzdemo.stuttgart/
ORGANIZER:mailto:Interkollektives Meetup
END:VEVENT
END:VCALENDAR
