BEGIN:VCALENDAR
VERSION:2.0
PRODID:eintopf.info
METHOD:REQUEST
BEGIN:VEVENT
UID:279e6b4b-11eb-49a9-95c6-ded7969f9362
SUMMARY:POINT NO POINT & AUTOBAHNS (live)
DTSTART:20250326T180000Z
URL:https://eintopf.info/event/279e6b4b-11eb-49a9-95c6-ded7969f9362
CATEGORIES:Konzert & Party\,Sonstiges
DESCRIPTION:No Shows & Sunny High Club präsentiert:\nPOINT NO POINT &
  AUTOBAHNS\n\nEinlass 19 Uhr\, Beginn 20 Uhr\n\nPOINT NO POINT ist das
  Soloprojekt der Berliner Musikerin Jana Sotzko (u.a. Dropout Patrol\,
  Halfsilks\, Soft Grid). Auf Tour ist sie mit Band und neuer EP „Haus
  ohne Schatten“ (Ichi Ichi). Irgendwo zwischen Pop\, Kraut und Post-Punk
  changierend spielten sie in dieser Formation bereits zahlreiche Shows.
  Begeistert von Jana Sotzkos bisherigen Bands und auch ihrem aktuellen
  Projekt Point no Point freuen wir uns sehr\, dass sie bei uns zu Gast
  sein werden.\n\nAUTOBAHNS aus Leipzig ist das Synthpunk-\, Punk- und
  Garage-Projekt des schweizerisch-italienischen Musikers Giuliano
  Iannarella. Erst letzten Sommer sahen wir eine fantastisches
  elektrisierendes Konzert der Band im Stuttgarter Norden. Das neue Album
  „First LP“ ist u.a. bei Phantom Records erschienen\, live spielen
  Autobahns einen wilden Synth-Punk-Garage-Mix mit Lofi/DIY-Charme und
  vielleicht sogar einem Hauch Skate-Punk. In der Band u.a. Mitglieder von
  Lassie oder Parking Lot.
LOCATION:Sunny High Club\, Bahnhofstr. 14\, 70372 Stuttgart
GEO:48.8025406;9.2170963
ORGANIZER:mailto:Sunny High
END:VEVENT
END:VCALENDAR
