BEGIN:VCALENDAR
VERSION:2.0
PRODID:eintopf.info
METHOD:REQUEST
BEGIN:VEVENT
UID:272aeb4f-0a04-4e49-8eee-b6c05dff8a09
SUMMARY:Randgänge der Neuen Rechten – Philosophie\, Minderheiten\,
  Transnationalität
DTSTART:20230126T183000Z
URL:https://eintopf.info/event/272aeb4f-0a04-4e49-8eee-b6c05dff8a09
DTEND:20230126T203000Z
DESCRIPTION:
LOCATION:Komma Jugend und Kultur\, Maille 5-9\, 73728 Esslingen
ORGANIZER:mailto:Emma und Fritz
END:VEVENT
END:VCALENDAR
