BEGIN:VCALENDAR
VERSION:2.0
PRODID:eintopf.info
METHOD:REQUEST
BEGIN:VEVENT
UID:27127690-7fbd-47b2-8e29-bc949c61fc34
SUMMARY:Kleiderkreisel
DTSTART:20260110T140000Z
URL:https://eintopf.info/event/27127690-7fbd-47b2-8e29-bc949c61fc34
DTEND:20260110T190000Z
CATEGORIES:Sonstiges\,Sonstiges
DESCRIPTION:Kommt alle vorbei mit euren cuten aussortierten Klamotten um
  euch noch cutere Outfits für das neue Jahr zusammenzustellen 🧚 \nMit
  einem Filmabend am 09.01.\, an dem wir gemeinsam einen Film über die
  Kleidungsindustrie und Feminist Empowerment schauen.\nSamstag und Sonntag
  findet dann der Kleiserkreisel statt.\nSamstag ist neben dem
  Kleiderkreisel ein offenes Nähatelier unten in der Burg\, in dem ihr
  direkt eure neuen Schätze bedazzeln oder umnähen könnt\, oder auch
  einfach so zum vorbeischauen und bisschen quatschen oder ganz im Sinne
  der Nachhaltigkeit eigene Klamotten zu reparieren.\nKommt sehr gerne auch
  ohne eigene Klamotten vorbei :)\n ⊹˚♡‧₊˚  ♡₊☆
LOCATION:Weissenburg Zentrum LSBTIQA+ Stuttgart \, Weissenburgstraße 28A\,
  Im Saal (oben)
END:VEVENT
END:VCALENDAR
