BEGIN:VCALENDAR
VERSION:2.0
PRODID:eintopf.info
METHOD:REQUEST
BEGIN:VEVENT
UID:25a436a1-7393-48f2-a70e-89743b6164ea
SUMMARY:ZuZule Workshop „Ich mach mich vegan(er)“ – Neujahrs-Edition
  2026
DTSTART:20260124T100000Z
URL:https://eintopf.info/event/25a436a1-7393-48f2-a70e-89743b6164ea
DTEND:20260124T130000Z
CATEGORIES:Workshop\,Ernährung
DESCRIPTION:\n\nSonderaktion:\n\n25 € + 7 € Lebensmittel p.P. >>>
  Abonnier’ unseren ZuZule Youtube Kanal & schick uns mit Deiner
  Anmeldung einen Screenshot davon\n\nAnmeldung per Email an
  ZuZule@mail.de\n\n \n\nDu bist neugierig auf eine nachhaltige und gesunde
  Ernährungsweise?\nDann ist unser Workshop „Ich mach mich vegan(er)“
  genau das Richtige für dich!\nHast du dich schon einmal gefragt\, wie du
  dich gesünder ernähren\, mehr Energie bekommen und dabei auch noch
  etwas Gutes für die Umwelt tun kannst? Die Antwort liegt in einer
  pflanzlichen Ernährung! In unserem Workshop zeigen wir dir\, wie einfach
  und lecker eine vegane Ernährung sein kann. Du wirst erstaunt sein\, wie
  viele tolle Möglichkeiten es gibt\, deinen Speiseplan zu bereichern –
  ohne auf Geschmack oder Abwechslung zu verzichten.\n\nWarum solltest du
  teilnehmen?\nGesundheit: Du möchtest dich fitter und energiegeladener
  fühlen? Vegane Ernährung kann dir dabei helfen\, dich in deinem Körper
  besser zu fühlen und deine Gesundheit langfristig zu fördern.\nUmwelt:
  Hast du Lust\, deinen CO₂-Fußabdruck zu verringern und etwas für den
  Planeten zu tun? Durch den Verzicht auf tierische Produkte kannst du
  aktiv zum Klimaschutz beitragen.\nTiere: Du willst eine bewusste
  Entscheidung treffen\, die den Tieren zugutekommt? Vegan leben bedeutet\,
  die Tieren zu respektieren und ihnen ein gutes Leben zu
  ermöglichen.\n\nWas erwartet dich?\nEinblick und Inspiration: Du
  bekommst wertvolle Informationen über die Vorteile der veganen
  Ernährung und entdeckst viele leckere Rezepte\, die du sofort
  ausprobieren kannst.\nPraktische Tipps: Du wirst lernen\, wie du vegane
  Gerichte einfach in deinen Alltag integrieren kannst – ohne viel
  Aufwand und teure Zutaten.\nGesunde Vielfalt: Wir zeigen dir\, wie du
  dich ausgewogen ernährst und deinen Körper mit allem versorgst\, was er
  braucht.\nGemeinschaft: Du bist nicht allein! Triff Gleichgesinnte\,
  tausche dich aus und motiviert euch gegenseitig\, den Schritt in eine
  gesunde\, pflanzliche Zukunft zu gehen.\ninklusive vielfältigem Brunch
  zum Ausprobieren und Genießen\n\nWarum du dabei sein solltest:\nWenn du
  neugierig bist\, wie du dich gesünder und umweltfreundlicher ernähren
  kannst\, dann bist du hier genau richtig!\nEgal\, ob du nur kleine
  Veränderungen vornehmen oder die vegane Ernährung komplett ausprobieren
  möchtest – dieser Workshop bietet dir den Raum\, alles zu erfahren\,
  was du wissen musst.\nSei dabei – und starte noch heute in eine neue\,
  bewusstere Lebensweise!\n\n \n\nIch mach mich vegan(er) –
  Neujahrs-Edition 2026\n\nTreffpunkt: ZuZule Begegnungsort\, Aichschießer
  Str. 2\, Aichwald – Schanbach\n\nWann: Samstag\, 24. Januar
  2026\nBeginn: 11 Uhr  // Ende 14 Uhr\n\nregulär: 33 Euro+ 7 Euro
  Lebensmittelkosten p.P.\ninklusive vielfältigem Brunch zum Ausprobieren
  und Genießen\n\nSonderaktion:\n\n25 € + 7 € Lebensmittel p.P. >>>
  Abonnier’ unseren ZuZule Youtube Kanal & schick uns mit Deiner
  Anmeldung einen Screenshot davon\n\nMelde dich jetzt an und entdecke\,
  wie einfach es ist\, etwas für deine Gesundheit\, die Umwelt und die
  Tiere zu tun!\nDu wirst überrascht sein\, wie gut du dich fühlen kannst
  – und wie lecker vegan essen wirklich ist!\n\nAnmeldung per Email an
  ZuZule@mail.de\n\nWir freuen uns auf Deine Anmeldung – gemeinsam +
  motiviert ins neue
  Jahr!\n\n#ZuZule\n\n#ZusammenZukunftleben\n#GemeinsamFürMenschTierUndUmw
 elt\n
LOCATION:ZuZule Begegnungsort\, Aichschießer Str. 2\, 73773 Aichwald
GEO:48.7589835;9.378939
ORGANIZER:mailto:ZuZule - Zusammen Zukunft leben
END:VEVENT
END:VCALENDAR
