BEGIN:VCALENDAR
VERSION:2.0
PRODID:eintopf.info
METHOD:REQUEST
BEGIN:VEVENT
UID:2371b074-f82a-482c-aa93-4316d106c931
SUMMARY:BONELESS DOGS
DTSTART:20231018T154253Z
URL:https://eintopf.info/event/2371b074-f82a-482c-aa93-4316d106c931
DESCRIPTION:eine Sprech-Theater-Performance über gesellschaftliche
  Ursachen und soziale Dynamiken von Gewalt\nmit Sounds und Texten von Mo
  Sommer\n\nAngst. Entsetzen. Fassungslosigkeit. Die Ausbrüche von Gewalt
  scheiden uns in Opfer\, Täter:innen und Zeug:innen. Ihre Folgen halten
  noch an\, wenn die Tat selbst schon lange vergessen scheint.\n\nDas
  Projekt Boneless Dogs setzt sich mit den Ursachen und sozialen Dynamiken
  von Gewalt in einer von Krisen\, Katastrophen und politischen
  Polarisierungen aufgeheizten gesellschaftlichen Atmosphäre
  auseinander.\n\nAllabendlich wiegen TV-Krimis uns in der Gewissheit\,
  dass die Strafverfolgungsbehörden die gesetzwidrige Ausübung von Gewalt
  der gerechten Strafe zuführen. Sie erinnern uns an das Gewaltmonopol des
  Staates. Sie erinnern uns aber auch daran\, das Gewalt allgegenwärtig
  und vielgestaltig\, verdeckt und offen\, und ein Teil des Alltags eines
  jeden von uns ist: Wissen wir doch\, dass wir tagtäglich von regulierter
  Gewalt geleitet werden\, sie tagtäglich selbst ausüben.\n\nAufsehen
  erregen die Ausbrüche von Gewalt\, die das gesellschaftlich
  sanktionierte Maß an Gewaltausübung übersteigen\, ob Einzelner oder
  von Gruppen\, politisch motiviert oder kriminell. Das Projekt Boneless
  Dogs geht den Ursachen und Dynamiken solcher Überschreitungen
  nach.\n\nAnlass für TARTproduktion\, das Thema Gewalt aufzugreifen\,
  waren die sogenannten Stuttgarter Ausschreitungen aus dem Juni
  2020.\n\nBeginn: 21 Uhr\n\nTickets → tart-produktion.de\n\nEintritt auf
  Spendenbasis\n\ngefördert vom Landesverband Freie Tanz- und
  Theaterschaffende Baden-Württemberg e.V. aus Mitteln des Ministeriums
  für Wissenschaft\, Forschung und Kunst Baden-Württemberg und vom
  Kulturamt der Stadt Stuttgart
LOCATION:Kunstverein Wagenhalle\, Innerer Nordbahnhof 1\, 70191 Stuttgart
GEO:48.7991183;9.1858991
ORGANIZER:mailto:Kunstverein Wagenhalle
END:VEVENT
END:VCALENDAR
