BEGIN:VCALENDAR
VERSION:2.0
PRODID:eintopf.info
METHOD:REQUEST
BEGIN:VEVENT
UID:22fda2d6-8f36-49df-8c1e-a885eba3db57
SUMMARY:Feministisch streiten 2 - Texte zu Bewegung und transnationalen
  Kämpfen
DTSTART:20250123T183000Z
URL:https://eintopf.info/event/22fda2d6-8f36-49df-8c1e-a885eba3db57
DTEND:20250123T203000Z
CATEGORIES:Vortrag\,Feminismus
DESCRIPTION:\nFeministisch streiten 2 -Texte zu Bewegung und
  transnationalen Kämpfen\n\nLesung und Diskussion mit Koschka
  Linkerhand\n\nDonnerstag\, 23. Januar 2025\, 19.30 Uhr\,
  Stuttgart\n\nLaboratorium\, Wagenburgstr.147\n\nTrotz vielfältiger
  gesellschaftlicher Krisen bleibt der Feminismus hierzulande häufig auf
  Akademie und Subkultur\, soziale Arbeit und neoliberale Selbstdarstellung
  begrenzt. Dabei bestimmt das kapitalistische Patriarchat überall auf der
  Welt das Leben von Frauen\, Queers und Rassifizierten. Ein Feminismus\,
  der die Verhältnisse umwälzen will\, muss also transnational denken und
  handeln. Wie kommen wir aus unseren begrenzten Nischen heraus? Wie
  können wir uns feministisch aufeinander beziehen und organisieren?
  Welche sozialen Bewegungen eignen sich als Vorbilder? Und: Wer sind
  „wir“ überhaupt?\n\nFeministisch streiten 2 sucht nach Antworten –
  in den breiten Bewegungen gegen Femizide und für das Recht auf
  Abtreibung\,  in der Analyse von Arbeitsteilung und patriarchaler Gewalt
  und einer transnationalen Auseinandersetzung mit Religion\, Ökologie\,
  Transfeindlichkeit\, Kolonialismus und Antisemitismus.\n\nKoschka
  Linkerhand lebt in Leipzig und schreibt Romane und politische Theorie.
  Der erste Band von Feministisch streiten erschien 2018 und liegt
  mittlerweile in 4. Auflage vor.
LOCATION:Laboratorium Stuttgart\, Wagenburgstr. 147\, 70186 Stuttgart
GEO:48.78128;9.20766
ORGANIZER:mailto:Emma und Fritz,Laboratorium Stuttgart
END:VEVENT
END:VCALENDAR
