BEGIN:VCALENDAR
VERSION:2.0
PRODID:eintopf.info
METHOD:REQUEST
BEGIN:VEVENT
UID:22154374-939b-4bf8-abb3-23b763389579
SUMMARY:Internationales Digitalkunstfestival IDKF
DTSTART:20251128T170000Z
URL:https://eintopf.info/event/22154374-939b-4bf8-abb3-23b763389579
DTEND:20251128T220000Z
CATEGORIES:Ausstellung\,Kunst
DESCRIPTION:ORT & TERMINE\nKulturinsel Stuttgart\, Güterstraße 4\, 70372
  Stuttgart\n \n28. November 2025\, 18:00 - 23:00 Uhr\n18:00 Algorithmic
  Random Selected AV Exhibition\n20:00 AV Performance | Chi Him Chik -
  不明體_實 | unknown(0) (2025)\n20:30 Konzert | Mizuki Ishikawa &
  Wanqian Lin\n21:15 Konzert | The Interstring Project\n22:00 Performance |
  Nandeyanen\n \nEINTRITT\nEintritt frei
LOCATION:Kulturinsel\, Güterstraße 4\, 70372 Stuttgart
GEO:48.7974711;9.2264063
END:VEVENT
END:VCALENDAR
