BEGIN:VCALENDAR
VERSION:2.0
PRODID:eintopf.info
METHOD:REQUEST
BEGIN:VEVENT
UID:20a93c4d-0c7c-4536-a7bb-74256f37ca4c
SUMMARY:Into the Light - Eröffnung Sunny High Club
DTSTART:20230909T170000Z
URL:https://eintopf.info/event/20a93c4d-0c7c-4536-a7bb-74256f37ca4c
DTEND:20230910T040000Z
DESCRIPTION:Divers\, nicht-kommerziell\, aware - der Sunny High Club
  erwacht am 9. September 2023!\n\nStart ab 19 Uhr mit Sekt\nKonzert
  beginnt um 20 Uhr\n\nEintritt auf Spendenbasis\n\nWir haben ein
  Awareness-Konzept!
LOCATION:Sunny High Cub\, Im Prisma (ehemalige Schwabenbräu Passage)
ORGANIZER:mailto:Sunny High e.V.
END:VEVENT
END:VCALENDAR
