BEGIN:VCALENDAR
VERSION:2.0
PRODID:eintopf.info
METHOD:REQUEST
BEGIN:VEVENT
UID:208723c1-0759-4110-a417-34e83dfcc1e2
SUMMARY:QueerImpuls 2025
DTSTART:20251101T100000Z
URL:https://eintopf.info/event/208723c1-0759-4110-a417-34e83dfcc1e2
DTEND:20251101T173000Z
CATEGORIES:Workshop\,Queer
DESCRIPTION:
LOCATION:Bürgerräume Stuttgart West\, Bebelstraße 22\, 70193 Stuttgart
ORGANIZER:mailto:Projekt 100% MENSCH
END:VEVENT
END:VCALENDAR
