BEGIN:VCALENDAR
VERSION:2.0
PRODID:eintopf.info
METHOD:REQUEST
BEGIN:VEVENT
UID:1e6bb745-09bd-48af-b22f-59941dca0d43
SUMMARY:Bezugs Gruppentreffen IAA 
DTSTART:20210902T160000Z
URL:https://eintopf.info/event/1e6bb745-09bd-48af-b22f-59941dca0d43
DTEND:20210902T173000Z
DESCRIPTION:bald ist es wieder so weit\, die Internationale Automobil
  Ausstellung (IAA) findet in München vom 9-12. September statt. Dabei
  werden täglich Aktionen stattfinden. #NoFuture for IAA.\n\nAllgemein ist
  ab dem 8. September ein großes Protestcamp in München geplant. Neben
  NoFuture for IAA rufen die Bündnisse #blockIAA und Smash IAA zu eigenen
  ZU-Aktionen auf. Am 11. September wird es eine große Demo und eine
  Fahrradsternfahrt von NGOs geben. Am Sonntag ist eine große Demo gegen
  die geplante Reform des bayerischen Polizeiaufgabengesetzes
  geplant.\n\nWir als EG-Stuttgart werden eine gemeinsame Anreise am 08.10
  über das Lilo planen und uns dann den NoFuture for IAA Protesten
  anschließen. Für Menschen die früher anreisen möchten\, wird es auch
  eine Möglichkeit geben.\n\nAm 27.08 wird es um 20:00 einen offenen
  Stammtisch in der Raupe Immersatt geben. Hier könnt ihr alles Wichtige
  über NoFuture for IAA erfahren und es gibt Raum um sich auszutauschen\,
  kennenzulernen und Fragen zu stellen. Wenn ihr noch nicht organisiert
  seid\, aber Lust habt mit nach München zu kommen\, wird es an dem Abend
  die Möglichkeit geben sich dort zu Bezugsgruppen
  zusammenzuschließen.\n\nAm 02.09 um 18:00 gibt es noch ein letztes
  Bezugi Gruppen treffen\, wo wir auch die gemeinsame Anreise planen
  werden. (Ort wird noch bekannt gegeben)
LOCATION:Züblinparkhaus oberstes Deck
ORGANIZER:mailto:Ende Gelände Stuttgart
END:VEVENT
END:VCALENDAR
