BEGIN:VCALENDAR
VERSION:2.0
PRODID:eintopf.info
METHOD:REQUEST
BEGIN:VEVENT
UID:1df2ed84-d6df-4b0b-b867-a1302cf77ada
SUMMARY:Chai-Zeit: Chai / Spiel / Gemeinsamkeit
DTSTART:20260907T153000Z
URL:https://eintopf.info/event/1df2ed84-d6df-4b0b-b867-a1302cf77ada
DTEND:20260907T190000Z
CATEGORIES:Offenes Treffen\,Sonstiges
DESCRIPTION:Jeden Montag ist Chai-Zeit! Wir begrüßen wöchentlich unsere
  „Stammgäste“ und auch neue Gesichter\,\ndie uns besuchen. In der
  Chai-Zeit ist alles möglich\, was sich mit einer Tasse Tee kombinieren
  lässt: \nOb eine Schachpartie\, Unokarten oder andere gemeinschaftlichen
  Spiele oder einfach nur gemütliches Beisammen sein\, reden\, lachen\,
  Geschichten erzählen…\n\nKomm´ vorbei\, wir freuen uns auf weitere
  wundervolle Begegnungen! 🙃☕️
LOCATION:Begegnungsraum e.V. Stuttgart\, Breitscheidstraße 2F
GEO:48.780469499999995;9.171318150000003
ORGANIZER:mailto:Begegenungsraum Stuttgart
END:VEVENT
END:VCALENDAR
