BEGIN:VCALENDAR
VERSION:2.0
PRODID:eintopf.info
METHOD:REQUEST
BEGIN:VEVENT
UID:1df2afc8-f4a2-4af3-851f-757bdd408afd
SUMMARY:DIE KOLLEKTION #28 - Warum Armut politisch ist
DTSTART:20241220T180000Z
URL:https://eintopf.info/event/1df2afc8-f4a2-4af3-851f-757bdd408afd
CATEGORIES:Theater\,Politische Ökonomie
DESCRIPTION:DIE KOLLEKTION #28 stellt Fragen nach sozialer Ungleichheit und
  gesellschaftlichem Zusammenhalt. Wir sprechen mit Betroffenen\,
  Expert*innen und dem Publikum. Es gibt Einblicke in die Recherche und
  künstlerische Interventionen.\n\nMehr als 14 Millionen Menschen in
  Deutschland sind von Armut betroffen. Zu oft laufen wir nur an den
  Betroffenen vorbei\, deren Perspektive und Realität uns fremd
  bleibt.\n\nDas Projekt AR-Mut mit einem performativen Stadtspaziergang\,
  einem Artikel in der Straßenzeitung und einer Kollektion bewegt sich an
  der Schnittstelle von Soziologie\, Kunst und neuen Medien. Auf der
  Königstraße in Stuttgart\, einer der längsten und höchst
  frequentierten Einkaufsstraßen Deutschlands\, werden Fragen nach
  sozialer Ungleichheit und gesellschaftlichem Zusammenhalt gestellt.
LOCATION:Theater RAMPE\, Filderstraße 47\, 70180 Stuttgart
GEO:48.7638025;9.1706208
ORGANIZER:mailto:Citizen.KANE.Kollektiv
END:VEVENT
END:VCALENDAR
