BEGIN:VCALENDAR
VERSION:2.0
PRODID:eintopf.info
METHOD:REQUEST
BEGIN:VEVENT
UID:1d92de72-9a42-4f51-8577-f446a4aa0a48
SUMMARY:Afterparty Kicken gegen Rassismus
DTSTART:20240713T200000Z
URL:https://eintopf.info/event/1d92de72-9a42-4f51-8577-f446a4aa0a48
CATEGORIES:Konzert & Party\,Antirassimus
DESCRIPTION:Wir veranstalten die Afterpary zu Kicken gegen
  Rassismus\n\nKommt vorbei!
LOCATION:Linkes Zentrum Lilo Herrmann\, Böblinger Straße 105\, 70199
  Stuttgart
GEO:48.7618266;9.1567994
ORGANIZER:mailto:Aktionstreffen Klimagerechtigkeit 
END:VEVENT
END:VCALENDAR
