BEGIN:VCALENDAR
VERSION:2.0
PRODID:eintopf.info
METHOD:REQUEST
BEGIN:VEVENT
UID:1b841b2a-d7db-4d2f-bfcc-3a0fff53af59
SUMMARY:Vortrag & Diskussion: Femi(ni)zide - Gewalt gegen Frauen & Queers
DTSTART:20221110T170000Z
URL:https://eintopf.info/event/1b841b2a-d7db-4d2f-bfcc-3a0fff53af59
DESCRIPTION:In Kooperation mit den DGB-Frauen und dem Aktionsbündnis 8.
  März findet eine Diskussionsveranstaltung in der Raupe statt. Worum
  geht’s?\n\nGewalt gegen Frauen und Queers ist kein Einzelfall und keine
  Privatsache – ganz im Gegenteil. Die Erfahrung von Gewalt ist für
  viele Alltag\, auf der Arbeit und im eigenen Zuhause. Der Femi(ni)zid
  stellt die grausame Zuspitzung geschlechtsbezogener Gewalt dar. Während
  die Auseinandersetzung mit Femi(ni)ziden in Lateinamerika und der Karibik
  sowie im US-amerikanischen Raum bereits seit mehreren Jahrzehnten
  kontinuierlich stattfindet\, ist das im deutschsprachigen Raum ein eher
  jüngeres Phänomen. Zwar ist die Thematisierung von und Kritik an
  patriarchaler Gewalt schon lange zentrales Thema feministischer Kämpfe
  und Bewegungen\, jedoch scheint es erst in den letzten Jahren gelungen zu
  sein\, dem Thema die Aufmerksamkeit zu schaffen\, die es so dringend
  nötig hat. In einem kurzen Input werden durch unsere Referent*in
  verschiedene strukturelle Erklärungsansätze von geschlechtsbezogener
  Gewalt und Femi(ni)ziden eingeführt. Anschließend wollen wir gemeinsam
  verschiedene feministische globale und lokale Protestformen diskutieren\,
  insbesondere auch gegen sexualisierte Gewalt am Arbeitsplatz. Hierzu
  haben wir eine Betriebsratsvorsitzende und Aktivistin des feministischen
  Aktionsbündnis 8. März aus Stuttgart zu Gast.\n\nVortrag & Diskussion
  mit\nCARINA MAIER\, Politikwissenschafter*in\, promoviert in Frankfurt am
  Main und lehrt an der Universität Wien. Außerdem ist Carina Mitautor*in
  des Buches „Femi(ni)zide – kollektiv patriarchale Gewalt
  bekämpfen“\, das Anfang 2023 im Verbrecher Verlag erscheint.
LOCATION:Raupe Immersatt\, Johannesstraße 97\, Stuttgart
GEO:48.782018;9.1579717
ORGANIZER:mailto:DGB Frauen,Aktionsbündnis 8. März
END:VEVENT
END:VCALENDAR
