BEGIN:VCALENDAR
VERSION:2.0
PRODID:eintopf.info
METHOD:REQUEST
BEGIN:VEVENT
UID:1b7526bc-0148-4599-ae7e-01b4b6935e9b
SUMMARY:Feindbild Flüchtling – rassistische Mobilisierungen im Ländle
DTSTART:20240425T173000Z
URL:https://eintopf.info/event/1b7526bc-0148-4599-ae7e-01b4b6935e9b
DESCRIPTION:Das Feindbild Flüchtling ist vermutlich das
  mobilisierungsstärkste Thema der extremen Rechten in den letzten
  Jahrzehnten. Hier trifft Rassismus auf Wohlstandschauvinismus. Dieses
  Feindbild kann antiziganistisch aufgeladen werden und auch eine
  antisemitische Verschwörungserzählung kann problemlos mit eingebaut
  werden.\nDoch muss die extreme Rechte überhaupt als Akteur auftreten?
  Diese und weitere Fragen wird versuchen ein Vortrag zu klären.\n\nDer
  Referent Lucius Teidelbaum ist freier Journalist mit dem Schwerpunkt
  extreme Rechte und anliegende Grauzonen. Von ihm erschien zuletzt im
  Unrast-Verlag das Büchlein „Vom Querdenken zur Querfront?
  Corona-Proteste von rechts.“
LOCATION:Demokratisches Zentrum Ludwigsburg (DemoZ)\,  Wilhelmstr. 45/1
  71638 Ludwigsburg 
GEO:48.89585;9.18429
ORGANIZER:mailto:Demokratisches Zentrum Ludwigsburg (DemoZ)
END:VEVENT
END:VCALENDAR
