BEGIN:VCALENDAR
VERSION:2.0
PRODID:eintopf.info
METHOD:REQUEST
BEGIN:VEVENT
UID:1976dc68-cedd-4321-9008-c1a09ff41ae0
SUMMARY:Veganer Mitbring-Brunch mit anschließendem „Netzwerktreffen“
DTSTART:20250921T090000Z
URL:https://eintopf.info/event/1976dc68-cedd-4321-9008-c1a09ff41ae0
DTEND:20250921T130000Z
CATEGORIES:Offenes Treffen\,Tierrechte
DESCRIPTION:Die ARIWA Ortsgruppe Stuttgart veranstaltet einen veganen
  Mitbring-Brunch mit anschließendem Netzwerktreffen.\nDer Brunch findet
  mit ganz freundlicher Unterstützung der Kulturinsel\, Güterstraße 4 in
  Bad Cannstatt statt und beginnt um 11.00 Uhr (Einlass ab 10:30 Uhr). Ab
  13:00 Uhr ist ein Netzwerktreffen und Austausch geplant\, mit
  Tierrechtsgruppen in Stuttgart die mit dem Selbstverständnis von ARIWA
  mitgehen können.\n—————————————–\nBITTE
  MITBRINGEN:\nEin veganes* Gericht fürs Buffet.\nGerne eine Spende für
  die Getränke.\n*Vegan heißt: frei von allen Tierprodukten\, also auch
  ohne Honig\, Sahne\, Joghurt\, tierfetthaltige Margarine usw.\n\nWenn du
  unsicher bist\, melde dich bitte vorab bei uns.\n\nEine Aktion von ARIWA
  Stuttgart.\n\nHinweis:\nARIWA lehnt alle Formen allgemeiner und
  gruppenbezogener Menschenfeindlichkeit (wie zum Beispiel Ableismus\,
  Antisemitismus\, Homo- und Trans*feindlichkeit\, Rassismus oder Sexismus)
  sowie verschwörungsideologische Denkmuster ab. Personen und Gruppen mit
  solchen Hintergründen sind bei der Veranstaltung ausdrücklich nicht
  erwünscht. Mehr Infos: ariwa.org/selbstverstaendnis
LOCATION:Kulturinsel\, Güterstraße 4\, 70372 Stuttgart
GEO:48.7974711;9.2264063
ORGANIZER:mailto:ARIWA 
END:VEVENT
END:VCALENDAR
