BEGIN:VCALENDAR
VERSION:2.0
PRODID:eintopf.info
METHOD:REQUEST
BEGIN:VEVENT
UID:1957347d-3c08-4016-92a5-deb8d3f95101
SUMMARY:Auf den Spuren des „Stuttgarter Kabelattentats“ vom 15. Februar
  1933 – Erinnerungsrundgang zum Jahrestag
DTSTART:20250215T133000Z
URL:https://eintopf.info/event/1957347d-3c08-4016-92a5-deb8d3f95101
DTEND:20250215T160000Z
CATEGORIES:Sonstiges\,Antifaschismus
DESCRIPTION:Am 15. Februar wollen wir an das „Stuttgarter
  Kabelattentat“ erinnern:\n\nVor 91 Jahren\, am 15. Februar 1933\,
  beendeten vier junge Kommunisten\, Wilhelm Bräuninger\, Alfred Däuble\,
  Hermann Medinger und Eduard Weinzierl\, die Übertragung von Hitlers
  Wahlkampfrede in Stuttgart durch einen beherzten Hieb mit dem Beil
  vorzeitig.\n\nDiese Tat ging als Stuttgarter Kabelattentat“ in die
  Geschichte ein\, denn sie trübte zumindest bei Hitler und seiner
  Entourage die Freude an dem Auftakt ihrer deutschlandweiten Wahlkampagne
  mit der Kampfansage an die politischen Gegner*innen\, den sie mit Bedacht
  nach Stuttgart verlegt hatten\, und zu dem sie extra eingeflogen
  waren.\n\nZum Jahrestag des Stuttgarter Kabelattentats begeben wir uns an
  den Schauplätzen im Stuttgarter Osten auf die Spuren der vier mutigen
  jungen Männer und ihres kommunistischen Umfelds.\n\nUnser
  Erinnerungsrundgang endet in der Werderstraße\, wo das Attentat in
  unmittelbarer Nähe der Stadthalle (Heute stehen dort die Sendergebäude
  des SWR) stattgefunden hat.\nAlle Interessierten sind herzlich
  eingeladen.  Die Teilnahme ist kostenlos. Die Gruppengröße ist begrenzt
  deshalb bitten wir um Anmeldung per Email unter:
  anmeldung@hotel-silber.de
LOCATION:Stuttgart Ost
ORGANIZER:mailto:Initiative Lern- und Gedenkort Hotel Silber,Stuttgarter
  Stolperstein Initiativen,Allmende Stetten
END:VEVENT
END:VCALENDAR
