BEGIN:VCALENDAR
VERSION:2.0
PRODID:eintopf.info
METHOD:REQUEST
BEGIN:VEVENT
UID:1816587e-d7bc-4aa3-b0b8-2c79552d3354
SUMMARY:Holt Ramzi zurück! - gegen Abschiebungen
DTSTART:20250816T163000Z
URL:https://eintopf.info/event/1816587e-d7bc-4aa3-b0b8-2c79552d3354
CATEGORIES:Demonstration\,Antifaschismus
DESCRIPTION:https://www.instagram.com/studisgegenrechts.stuttgart/p/DNREu7w
 MuzB/\nKommt mit uns für Ramzi auf die Straße!\n\nEs ist kein Zufall\,
  dass die BRD derzeit massenhaft Migrant:innen abschiebt. Hinter diesen
  Abschiebungen stecken politische Deals und kaltes Kalkül\, und sie
  treffen Menschen aus unserem Alltag.\n\nFreunde wie Ramzi und Mehmet
  Çakas werden zu Opfern dieser menschenfeindlichen Politik. Sie werden
  aus ihrem Leben gerissen\, weil die Regierung Abschiebequoten erfüllen
  und politische Abkommen einhalten will\, nicht weil sie eine Gefahr
  wären. \n\nWir sagen: Schluss damit! Kein Mensch ist illegal\, und
  niemand darf für politische Interessen geopfert werden.\n\nKommt mit uns
  auf die Straße\, erhebt eure Stimmen\, zeigt eure Solidarität.\nFür
  Ramzi. Für Mehmet. Für alle\, die von Abschiebung bedroht
  sind.\n#stopdeportations #bleiberechtfüralle #holtramzizurück
LOCATION:Rotebühlplatz Stuttgart
GEO:48.773898;9.174149
ORGANIZER:mailto:Studis gegen Rechts Stuttgart,Kurdische Studierende
  Stuttgart
END:VEVENT
END:VCALENDAR
