BEGIN:VCALENDAR
VERSION:2.0
PRODID:eintopf.info
METHOD:REQUEST
BEGIN:VEVENT
UID:17e2e0ef-e29b-4aa4-89c6-eb39b61718f9
SUMMARY:Die doppelte Lücke“ – Erinnerung an die Machtübergabe an die
  Nationalsozialisten im Stuttgarter Rathaus im März 1933
DTSTART:20240320T180000Z
URL:https://eintopf.info/event/17e2e0ef-e29b-4aa4-89c6-eb39b61718f9
DESCRIPTION:\nFilm\, historischer Kurzvortrag und
  Gespräch\n\nVeranstalter*innen: StolperKunst\, Initiative Lern- und
  Gedenkort Hotel Silber\, Koordinierungsstelle Erinnerungskultur der Stadt
  Stuttgart\n\nM\n\nVorführung des StolperKunst-Films „Die doppelte
  Lücke“\nVortrag von Prof. Dr. Roland Müller zur Zerstörung der 
  kommunalen Demokratie in Stuttgart im Frühjahr 1933\,\nGespräch mit
  Vertreter*innen der Koordinierungsstelle Erinnerungskultur\, mit
  Stadträt*innen und Jugendrät*innen  zur Frage: Wann und wie wird die
  Gedächtnislücke geschlossen?\nModeration: Harald Stingele\n\nNirgends
  im Stuttgarter Rathaus wird auf die Zerstörung der kommunalen Demokratie
  im Frühjahr 1933 unter Regie von Karl Strölin verwiesen. Eine Galerie
  der Ehrenbürger zeigt dort im ersten Stock\, die ehemaligen Stuttgarter
  Oberbürgermeister seit Ende des 19. Jahrhunderts. Aber da klafft
  zwischen Karl Lautenschlager und Arnulf Klett eine Leerstelle. Hatte
  Stuttgart zwischen 1933 und 1945 keinen Oberbürgermeister? Auch wird
  nirgends im Rathaus an die hunderte aus politischen oder rassistischen
  Gründen entlassenen städtischen Mitarbeiter*innen erinnert. An die
  jüdische Fürsorgerin Emmy Brüll zum Beispiel\, die in Ravensbrück
  ermordet wurde\, oder an ihre Kollegin Emilie die nach Eschenau
  zwangsevakuiert wurde\, wo sie starb\, weil ihr ärztliche Hilfe versagt
  wurde. Auch wird nirgends im Rathaus an die aus dem Amt getriebenen und
  teilweise verhafteten Gemeinderäte erinnert\, von denen einer\, Heinrich
  Baumann im Februar 1945 in Dachau ermordet wurde.\n\nDer
  StolperKunst-Film hat auf diese doppelte Lücke aufmerksam gemacht. Im
  Juli 2021 hatte er Premiere im Stuttgarter Gemeinderat \, stieß dort auf
  starke Resonanz und wird jetzt erstmals im Hotel Silber gezeigt.  Die
  Aussagen des Films werden anschließend vertieft durch Dr. Roland
  Müller\, dem früheren Leiter des Stuttgarter Stadtarchivs.  Inzwischen
  wurde mehrfach der Wille geäußert\, die Gedächtnislücke im Rathaus in
  angemessener Form zu schließen. Doch wann und wie das konkret geschehen
  wird\, soll im anschließenden Gespräch besprochen
  werden.\n\nVeranstalterin: Initiative Lern- und Gedenkort Hotel Silber\,
  Projekt StolperKunst\, Stadtjugendring Stuttgart in Kooperation mit der
  Koordinierungsstelle Erinnerungskultur der Stadt Stuttgart
LOCATION:Erinnerungsort Hotel silber\, Dorotheenstraße 10\, 70173
  Stuttgart
GEO:48.775650850000005;9.181561912095749
ORGANIZER:mailto:Initiative Lern- und Gedenkort Hotel
  Silber,Stadtjugendring Stuttgart,StolperKunst
END:VEVENT
END:VCALENDAR
