BEGIN:VCALENDAR
VERSION:2.0
PRODID:eintopf.info
METHOD:REQUEST
BEGIN:VEVENT
UID:1774cfce-e9cd-4933-912d-a414a4582da1
SUMMARY:Keine fährt Alleine! ADFC Frauengruppe (Anmeldung erbeten)
DTSTART:20251218T160000Z
URL:https://eintopf.info/event/1774cfce-e9cd-4933-912d-a414a4582da1
CATEGORIES:Offenes Treffen\,Mobilität
DESCRIPTION:Seit Anfang 2024 gibt es beim ADFC Stuttgart eine
  Frauengruppe\, die sich regelmäßig zu gemeinsamen Aktionen und Touren
  trifft. Unser Motto lautet: "Egal mit welchem Rad\, egal in welchem
  Alter\, egal mit welcher Fitness: keine fährt alleine!"\n\nAnmeldung
  bitte bei Ulrike.Stoll@adfc-bw.de\n\nUnser Ziel ist es\, Angebote für
  Frauen in Stuttgart zu schaffen\, um nicht nur mehr Frauen für das
  Ehrenamt im ADFC Stuttgart zu begeistern\, sondern auch Frauen zum
  Radfahren zu motivieren. \n\nAlle Frauen sind herzlich eingeladen\, egal
  ob schon ADFC Mitglied oder nicht. Wir freuen uns auf dich!\n\nZiele der
  Frauengruppe: \n\nFrauen aktivieren\, sich mehr in der Radverkehrspolitik
  in Stuttgart einzubringen bzgl. grundsätzlich im ADFC Stuttgart aktiv zu
  werden\nEinen passenden Raum schaffen\, in dem Fahrradfrauen sich
  austauschen\, sich vernetzen und lernen können\nFrauen werden
  sensibilisiert für frauenspezifische Fragestellungen in Stuttgart\, um
  in der Radverkehrspolitik die Frauenperspektive mit einzubringen und
  letztlich die Infrastruktur sicherer für Frauen zu machen\nFrauen lernen
  die Lobbyarbeit des ADFC Stuttgart kennen sowie Hebel\, sich wirksam
  einzubringen\nFrauen verlieren die Angst am Radfahren und lernen\,
  sicher\, sichtbar\, selbstbewusst und selbstverständlich zu
  radeln\nFrauen werden zu Multiplikatorinnen und erleichtern anderen
  Frauen den Umstieg aufs Rad\; Sie motivieren andere Frauen zum
  Radfahren\nKurz gesagt: EMPOWERMENT und DABEI SPASS HABEN und RAD
  FAHREN\n\nhttps://stuttgart.adfc.de/artikel/frauengruppe-des-adfc-stuttga
 rt-keine-faehrt-alleine
LOCATION:Kulturzentrum Merlin\, Augustenstraße 72\, 70178 Stuttgart
GEO:48.77016;9.16115
ORGANIZER:mailto:ADFC Stuttgart
END:VEVENT
END:VCALENDAR
