BEGIN:VCALENDAR
VERSION:2.0
PRODID:eintopf.info
METHOD:REQUEST
BEGIN:VEVENT
UID:176058f2-0a8d-461f-9cb6-1c3174887570
SUMMARY:CreatiVibes: Musik für den Wandel
DTSTART:20250913T170000Z
URL:https://eintopf.info/event/176058f2-0a8d-461f-9cb6-1c3174887570
DTEND:20250913T200000Z
CATEGORIES:Konzert & Party\,Klimagerechtigkeit
DESCRIPTION:Musik als kraftvolle Plattform für Veränderung\n\nErlebe
  einen besonderen Abend voller Musik\, Austausch und Inspiration! Die
  Singer-Songwriterin TALYA verbindet mit ihrer Band Alternative-\,
  Electro- und klassischen Pop – ehrlich\, emotional und mit Mut zur
  Verletzlichkeit. Ihre Songs schaffen Raum für Gefühle und Gedanken\,
  die bewegen.\n\nWann: Samstag\, den 13.09. 2025\, 19 bis ca. 22 Uhr\nWo:
  Kulturinsel Stuttgart\, Güterstraße 4\, 70372 Stuttgart\nAnmeldung:
  https://www.wir-ernten-was-wir-saeen.de/creativibes-musik-fuer-den-wandel
 \n\nDoch dieser Abend bietet mehr als ein Konzert: Tauche ein in ein
  einzigartiges Zusammenspiel aus Live-Musik und persönlichem Dialog. Wir
  kommen mit den Musiker*innen ins Gespräch über ihre kreative Arbeit\,
  ihre Motivation und darüber\, wie Musik als Plattform für Klimaschutz\,
  Empowerment und gesellschaftlichen Wandel wirken kann.  \n\n\nWas
  dich erwartet\n\nLive-Musik von TALYA & Band \nDirekter Austausch mit den
  Musiker*innen\nNeue Impulse für dein eigenes
  (Nachhaltigkeits-)Engagement\nVeranstaltungsort: Kulturinsel
  Stuttgart \n\nDie Kulturinsel Stuttgart ist ein kreativer\, offener
  Kultur- und Begegnungsort in Stuttgart-Bad Cannstatt\, gelegen auf dem
  Gelände eines ehemaligen Güterbahnhofs. Hier treffen sich Kunst\,
  Musik\, Urban Gardening und soziales Engagement – ein idealer Ort für
  Austausch\, Inspiration und gemeinsames Gestalten.  \n\nDie
  Veranstaltung findet bei gutem Wetter auf der Außenbühne statt. Der
  Eintritt ist kostenfrei\, eine vorherige Anmeldung ist jedoch
  erforderlich. Getränke gibt es vor Ort zu kaufen – bitte bringt
  keine eigenen mit. Essen könnt ihr gerne selbst mitbringen.
  Zusätzlich stehen gerettete Lebensmittel von Foodsharing kostenlos zur
  Verfügung.  Entdecke Musik als kraftvolle Stimme für Veränderung
  – sei dabei!\n
LOCATION:Kulturinsel\, Güterstraße 4\, 70372 Stuttgart
GEO:48.7974711;9.2264063
ORGANIZER:mailto:wir ernten was wir säen
END:VEVENT
END:VCALENDAR
