BEGIN:VCALENDAR
VERSION:2.0
PRODID:eintopf.info
METHOD:REQUEST
BEGIN:VEVENT
UID:15f2504c-fe23-4743-b8f3-41231f27c9b0
SUMMARY:Holocaust Gedenktag
DTSTART:20260127T153000Z
URL:https://eintopf.info/event/15f2504c-fe23-4743-b8f3-41231f27c9b0
DTEND:20260127T163000Z
CATEGORIES:Demonstration\,Antifaschismus
DESCRIPTION:Holocaust Gedenktag\nGedenkzug vom Marktplatz zum Hotel
  Silber\nDienstag\, 27. Januar 2026\n16:30-17:30\nAm 27. Januar 1945
  befreite die Rote Armee das nationalsozialistische Konzentrations- und
  Vernichtungslager Auschwitz-Birkenau. Die Soldaten trafen auf wenige
  Überlebende\, auf die Trümmer der Gaskammern\, auf Tote und die Asche
  der Ermordeten. In Auschwitz allein wurden über eine Millionen Menschen
  ermordet. Die allermeisten von ihnen waren Jüdinnen und Juden. Auschwitz
  war nur eine von zahlreichen Stätten der Internierung\, der Zwangsarbeit
  und der Massenmorde durch das nationalsozialistische Deutschland.\n\nOhne
  die tatkräftige Unterstützung namhafter Akteure aus Wirtschaft und
  Industrie hätte dieses Verbrechen seine ungeheure Dimension nie
  erreicht. Einer von ihnen war Ferdinand Porsche. Er war ein
  hochdekorierter Vorzeigeunternehmer\, Profiteur und Förderer des
  NS-Terrorstaates und seiner Rüstungsindustrie.\nFerdinand Porsche war
  NSDAP-Mitglied und SS-Oberführer. Er hatte beste Kontakte zu Adolf
  Hitler\, Heinrich Himmler und Oswald Pohl. So konnte Porsche damals
  seinen riesigen Bedarf an Zwangsarbeiter- innen und Zwangsarbeitern
  problemlos decken. Diese mussten für ihn an seinen Produktionsstätten
  unter menschenunwürdigen Bedingungen schuften. Hunderte von ihnen kamen
  dabei ums Leben.\nVon Porsches Bewunderern wird heute lediglich der
  Mythos vom genialen Automobilkonstrukteur gepflegt. Wie skrupellos
  Porsche in den Jahren 1933 bis 1945 das NS-System für sich und seine
  Ziele nutzte\, scheint für sie ohne Bedeutung zu sein. Ferdinand Porsche
  hat Hitlers Vernichtungskrieg von Anfang bis Zuletzt mit vollem Einsatz
  unterstützt. Das dadurch entstandene unendliche Leid von Millionen
  unschuldiger Menschen war ihm anscheinend egal. Habgier\, Geltungssucht
  und völkischer Dünkel dominierten offenbar seinen Charakter.\n\nQuellen
  siehe:\nhttps://www.stadt-salzburg.at/ns-projekt/ns-strassennamen/prof-dr
 -ing-h-c-ferdinand-porsche/\nHeute trägt eine öffentliche Schule in
  Stuttgart den Namen dieses NS-Täters. Es ist das Ferdinand Porsche
  Gymnasium in Zuffenhausen.\nWir fordern den Stuttgarter Gemeinderat auf\,
  den Namen der Schule unverzüglich zu ändern.\nWer die Täter ehrt\,
  verhöhnt die Opfer
LOCATION:Marktplatz Stuttgart
GEO:48.7751882;9.1785179
ORGANIZER:mailto:Initiative "Kein NS-Täter-name für Schule"
END:VEVENT
END:VCALENDAR
