BEGIN:VCALENDAR
VERSION:2.0
PRODID:eintopf.info
METHOD:REQUEST
BEGIN:VEVENT
UID:1568a7e8-bc86-471c-a52f-23c3eb08ccd0
SUMMARY:Tallbike-Tour
DTSTART:20220206T100000Z
URL:https://eintopf.info/event/1568a7e8-bc86-471c-a52f-23c3eb08ccd0
DTEND:20220206T130000Z
DESCRIPTION:Seit Juli trifft sich eine Gruppe Verrückte regelmäßig\, um
  mit Ihren selbstgebauten Fahrrädern Quatsch zu machen und Deutschlands
  tristeste Stadt zum Lachen zu bringen. Wir fahren ne weile gemütlich
  kreuz und quer durch die Stadt oder überzeugen unschuldige sich mal was
  zu trauen. Getreu dem Motto Hauptsache nicht normal sind alle
  eingeladen\, mitzufahren\, Tallbikes und andere Freakbkes auszuprobieren
  und wenn sie dann erst angesteckt sind\, sich auch selber eins zu bauen
  (Das ist DIE Gelegenheit\, Schweißen zu lernen). \nHinterher bringen wir
  unsere unmöglichen Träume zu Papier oder fangen gleich damit an.\nEs
  gibt meist auch genug bikes für alle!\nSchrott sei Dank\, Teilnahme auf
  eigene Gefahr \;)
LOCATION:KarlA\, Karlsbaderstr. 21a Bad Cannstatt
ORGANIZER:mailto:Tallbike Stuttgart,www.tallbike-stuttgart.de
END:VEVENT
END:VCALENDAR
