BEGIN:VCALENDAR
VERSION:2.0
PRODID:eintopf.info
METHOD:REQUEST
BEGIN:VEVENT
UID:152e0beb-9ded-469f-9fba-a83c45900171
SUMMARY:WARNING
DTSTART:20251031T210000Z
URL:https://eintopf.info/event/152e0beb-9ded-469f-9fba-a83c45900171
CATEGORIES:Konzert & Party\,Sonstiges
DESCRIPTION:WARNING in Sunny High zum unheiligsten Tag des Jahres. Gottlose
  Rave Erfahrung garantiert mit einem Live Set von Electro Trance Queen
  Viikatory und DJ
  Support.\n\nLinks\nhttps://ra.co/events/2225008\nhttps://soundcloud.com/v
 iikatory/viikatory-live-warning\nhttps://www.instagram.com/warning._____
LOCATION:Sunny High Club\, Bahnhofstr. 14\, 70372 Stuttgart
GEO:48.8025406;9.2170963
ORGANIZER:mailto:Sunny High
END:VEVENT
END:VCALENDAR
